BEGIN:VCALENDAR
VERSION:2.0
PRODID:-//Toledo Gem &amp; Rockhound Club - ECPv6.15.15//NONSGML v1.0//EN
CALSCALE:GREGORIAN
METHOD:PUBLISH
X-WR-CALNAME:Toledo Gem &amp; Rockhound Club
X-ORIGINAL-URL:https://rockyreader.com
X-WR-CALDESC:Events for Toledo Gem &amp; Rockhound Club
REFRESH-INTERVAL;VALUE=DURATION:PT1H
X-Robots-Tag:noindex
X-PUBLISHED-TTL:PT1H
BEGIN:VTIMEZONE
TZID:America/Detroit
BEGIN:DAYLIGHT
TZOFFSETFROM:-0500
TZOFFSETTO:-0400
TZNAME:EDT
DTSTART:20200308T070000
END:DAYLIGHT
BEGIN:STANDARD
TZOFFSETFROM:-0400
TZOFFSETTO:-0500
TZNAME:EST
DTSTART:20201101T060000
END:STANDARD
BEGIN:DAYLIGHT
TZOFFSETFROM:-0500
TZOFFSETTO:-0400
TZNAME:EDT
DTSTART:20210314T070000
END:DAYLIGHT
BEGIN:STANDARD
TZOFFSETFROM:-0400
TZOFFSETTO:-0500
TZNAME:EST
DTSTART:20211107T060000
END:STANDARD
BEGIN:DAYLIGHT
TZOFFSETFROM:-0500
TZOFFSETTO:-0400
TZNAME:EDT
DTSTART:20220313T070000
END:DAYLIGHT
BEGIN:STANDARD
TZOFFSETFROM:-0400
TZOFFSETTO:-0500
TZNAME:EST
DTSTART:20221106T060000
END:STANDARD
BEGIN:DAYLIGHT
TZOFFSETFROM:-0500
TZOFFSETTO:-0400
TZNAME:EDT
DTSTART:20230312T070000
END:DAYLIGHT
BEGIN:STANDARD
TZOFFSETFROM:-0400
TZOFFSETTO:-0500
TZNAME:EST
DTSTART:20231105T060000
END:STANDARD
BEGIN:DAYLIGHT
TZOFFSETFROM:-0500
TZOFFSETTO:-0400
TZNAME:EDT
DTSTART:20240310T070000
END:DAYLIGHT
BEGIN:STANDARD
TZOFFSETFROM:-0400
TZOFFSETTO:-0500
TZNAME:EST
DTSTART:20241103T060000
END:STANDARD
END:VTIMEZONE
BEGIN:VTIMEZONE
TZID:UTC
BEGIN:STANDARD
TZOFFSETFROM:+0000
TZOFFSETTO:+0000
TZNAME:UTC
DTSTART:20180101T000000
END:STANDARD
END:VTIMEZONE
BEGIN:VEVENT
DTSTART;TZID=America/Detroit:20230626T120000
DTEND;TZID=America/Detroit:20230626T150000
DTSTAMP:20260422T234331
CREATED:20230608T200422Z
LAST-MODIFIED:20230608T200422Z
UID:4616-1687780800-1687791600@rockyreader.com
SUMMARY:Beaders Group
DESCRIPTION:Meet last Last Mondays each month\nPre-register with Kealy\nLet Kealy know if you need/want a “beaders kit” \nBeaders work sessions are $2/hour \nContact Kealy \n419-202-4549\nKealygoodale@gmail.com
URL:https://rockyreader.com/calendar/beaders-group-19/
LOCATION:Craft Center\, 2453 Tremainsville Rd Unit B\, Toledo\, OH\, 43613\, United States
CATEGORIES:Beaders
END:VEVENT
BEGIN:VEVENT
DTSTART;TZID=America/Detroit:20230522T120000
DTEND;TZID=America/Detroit:20230522T140000
DTSTAMP:20260422T234331
CREATED:20230503T225820Z
LAST-MODIFIED:20230503T225820Z
UID:4558-1684756800-1684764000@rockyreader.com
SUMMARY:Beaders Group
DESCRIPTION:  \nMeet last Last Mondays each month\nPre-register with Kealy\nLet Kealy know if you need/want a “beaders kit” \nBeaders work sessions are $2/hour \nContact Kealy \n419-202-4549\nKealygoodale@gmail.com
URL:https://rockyreader.com/calendar/beaders-group-18/
LOCATION:Craft Center\, 2453 Tremainsville Rd Unit B\, Toledo\, OH\, 43613\, United States
CATEGORIES:Beaders
END:VEVENT
BEGIN:VEVENT
DTSTART;TZID=America/Detroit:20230424T180000
DTEND;TZID=America/Detroit:20230424T200000
DTSTAMP:20260422T234331
CREATED:20230405T181401Z
LAST-MODIFIED:20230405T181454Z
UID:4351-1682359200-1682366400@rockyreader.com
SUMMARY:Wire Wrap Make & Take
DESCRIPTION:Meet last Last Mondays each month\nPre-register with Kealy\nLet Kealy know if you need/want a “beaders kit” \nBeaders work sessions are $2/hour \nContact Kealy \n419-202-4549\nKealygoodale@gmail.com
URL:https://rockyreader.com/calendar/wire-wrap-maketake/
LOCATION:Craft Center\, 2453 Tremainsville Rd Unit B\, Toledo\, OH\, 43613\, United States
CATEGORIES:Beaders
END:VEVENT
BEGIN:VEVENT
DTSTART;TZID=America/Detroit:20230424T120000
DTEND;TZID=America/Detroit:20230424T140000
DTSTAMP:20260422T234331
CREATED:20230405T181254Z
LAST-MODIFIED:20230405T181254Z
UID:4349-1682337600-1682344800@rockyreader.com
SUMMARY:Beaders Group
DESCRIPTION:Meet last Last Mondays each month\nPre-register with Kealy\nLet Kealy know if you need/want a “beaders kit” \nBeaders work sessions are $2/hour \nContact Kealy \n419-202-4549\nKealygoodale@gmail.com
URL:https://rockyreader.com/calendar/beaders-group-17/
LOCATION:Craft Center\, 2453 Tremainsville Rd Unit B\, Toledo\, OH\, 43613\, United States
CATEGORIES:Beaders
END:VEVENT
BEGIN:VEVENT
DTSTART;TZID=America/Detroit:20230327T120000
DTEND;TZID=America/Detroit:20230327T140000
DTSTAMP:20260422T234331
CREATED:20230307T031005Z
LAST-MODIFIED:20230307T031005Z
UID:4256-1679918400-1679925600@rockyreader.com
SUMMARY:Beaders Group
DESCRIPTION:  \nMeet last Last Mondays each month \nPre-register with Kealy\nLet Kealy know if you need/want a “beaders kit” \nBeaders work sessions are $2/hour \nContact Kealy \n419-202-4549\nKealygoodale@gmail.com
URL:https://rockyreader.com/calendar/beaders-group-16/
LOCATION:Craft Center\, 2453 Tremainsville Rd Unit B\, Toledo\, OH\, 43613\, United States
CATEGORIES:Beaders
END:VEVENT
BEGIN:VEVENT
DTSTART;TZID=America/Detroit:20230130T120000
DTEND;TZID=America/Detroit:20230130T140000
DTSTAMP:20260422T234331
CREATED:20230104T214956Z
LAST-MODIFIED:20230104T214956Z
UID:4071-1675080000-1675087200@rockyreader.com
SUMMARY:Beaders Group
DESCRIPTION:  \nMeet last Last Mondays each month (December 2022 1 week earlier)\nPre-register with Kealy\nLet Kealy know if you need/want a “beaders kit” \nBeaders work sessions are $2/hour \nContact Kealy \n419-202-4549\nKealygoodale@gmail.com
URL:https://rockyreader.com/calendar/beaders-group-15/
LOCATION:Craft Center\, 2453 Tremainsville Rd Unit B\, Toledo\, OH\, 43613\, United States
CATEGORIES:Beaders
END:VEVENT
BEGIN:VEVENT
DTSTART;TZID=America/Detroit:20221219T120000
DTEND;TZID=America/Detroit:20221219T140000
DTSTAMP:20260422T234331
CREATED:20221203T023015Z
LAST-MODIFIED:20221205T132249Z
UID:3997-1671451200-1671458400@rockyreader.com
SUMMARY:Beaders Group
DESCRIPTION:Meet last Last Mondays each month (December 2022 1 week earlier)\nPre-register with Kealy\nLet Kealy know if you need/want a “beaders kit” \nBeaders work sessions are $2/hour \nContact Kealy \n419-202-4549\nKealygoodale@gmail.com
URL:https://rockyreader.com/calendar/beaders-group-14/
LOCATION:Craft Center\, 2453 Tremainsville Rd Unit B\, Toledo\, OH\, 43613\, United States
CATEGORIES:Beaders
END:VEVENT
BEGIN:VEVENT
DTSTART;TZID=America/Detroit:20221128T120000
DTEND;TZID=America/Detroit:20221128T140000
DTSTAMP:20260422T234331
CREATED:20221128T151815Z
LAST-MODIFIED:20221128T151815Z
UID:3963-1669636800-1669644000@rockyreader.com
SUMMARY:Beaders Group
DESCRIPTION:Meet last Mondays each month\nPre-register with Kealy\nLet Kealy know if you need/want a “beaders kit” \nBeaders work sessions are $2/hour \nContact Kealy \n419-202-4549\nKealygoodale@gmail.com
URL:https://rockyreader.com/calendar/beaders-group-13/
LOCATION:Craft Center\, 2453 Tremainsville Rd Unit B\, Toledo\, OH\, 43613\, United States
CATEGORIES:Beaders
END:VEVENT
BEGIN:VEVENT
DTSTART;TZID=America/Detroit:20221031T120000
DTEND;TZID=America/Detroit:20221031T140000
DTSTAMP:20260422T234331
CREATED:20221007T032215Z
LAST-MODIFIED:20221007T032215Z
UID:3832-1667217600-1667224800@rockyreader.com
SUMMARY:Beaders Group
DESCRIPTION:Meet last Mondays each month\nPre-register with Kealy\nLet Kealy know if you need/want a “beaders kit” \nBeaders work sessions are $2/hour \nContact Kealy \n419-202-4549\nKealygoodale@gmail.com
URL:https://rockyreader.com/calendar/beaders-group-12/
LOCATION:Craft Center\, 2453 Tremainsville Rd Unit B\, Toledo\, OH\, 43613\, United States
CATEGORIES:Beaders
END:VEVENT
BEGIN:VEVENT
DTSTART;TZID=America/Detroit:20220926T120000
DTEND;TZID=America/Detroit:20220926T140000
DTSTAMP:20260422T234331
CREATED:20220810T034444Z
LAST-MODIFIED:20220810T035744Z
UID:3695-1664193600-1664200800@rockyreader.com
SUMMARY:Beaders Group
DESCRIPTION:Meet last Mondays each month\nPre-register with Kealy\nLet Kealy know if you need/want a “beaders kit” \nBeaders work sessions are $2/hour \nContact Kealy \n419-202-4549\nKealygoodale@gmail.com
URL:https://rockyreader.com/calendar/beaders-group-11/
LOCATION:Craft Center\, 2453 Tremainsville Rd Unit B\, Toledo\, OH\, 43613\, United States
CATEGORIES:Beaders
END:VEVENT
BEGIN:VEVENT
DTSTART;TZID=America/Detroit:20220829T120000
DTEND;TZID=America/Detroit:20220829T140000
DTSTAMP:20260422T234331
CREATED:20220705T174825Z
LAST-MODIFIED:20220810T035701Z
UID:3650-1661774400-1661781600@rockyreader.com
SUMMARY:Beaders Group
DESCRIPTION:Meet last Mondays each month\nPre-register with Kealy\nLet Kealy know if you need/want a “beaders kit” \nBeaders work sessions are $2/hour \nContact Kealy \n419-202-4549\nKealygoodale@gmail.com
URL:https://rockyreader.com/calendar/beaders-group-10/
LOCATION:Craft Center\, 2453 Tremainsville Rd Unit B\, Toledo\, OH\, 43613\, United States
CATEGORIES:Beaders
END:VEVENT
BEGIN:VEVENT
DTSTART;TZID=America/Detroit:20220725T120000
DTEND;TZID=America/Detroit:20220725T140000
DTSTAMP:20260422T234331
CREATED:20220705T174742Z
LAST-MODIFIED:20220705T174742Z
UID:3647-1658750400-1658757600@rockyreader.com
SUMMARY:Beaders Group
DESCRIPTION:Meet last Mondays each month\nPre-register with Kealy\nLet Kealy know if you need/want a “beaders kit” \nBeaders work sessions are $2/hour \nContact Kealy \n419-202-4549\nKealygoodale@gmail.com
URL:https://rockyreader.com/calendar/beaders-group-9/
LOCATION:Craft Center\, 2453 Tremainsville Rd Unit B\, Toledo\, OH\, 43613\, United States
CATEGORIES:Beaders
END:VEVENT
BEGIN:VEVENT
DTSTART;TZID=America/Detroit:20220627T120000
DTEND;TZID=America/Detroit:20220627T140000
DTSTAMP:20260422T234331
CREATED:20220426T163911Z
LAST-MODIFIED:20220426T163911Z
UID:3489-1656331200-1656338400@rockyreader.com
SUMMARY:Beaders Group
DESCRIPTION:Meet last Mondays each month\nPre-register with Kealy\nLet Kealy know if you need/want a “beaders kit” \nBeaders work sessions are $2/hour \nContact Kealy \n419-202-4549\nKealygoodale@gmail.com
URL:https://rockyreader.com/calendar/beaders-group-8/
LOCATION:Craft Center\, 2453 Tremainsville Rd Unit B\, Toledo\, OH\, 43613\, United States
CATEGORIES:Beaders
END:VEVENT
BEGIN:VEVENT
DTSTART;TZID=America/Detroit:20220523T120000
DTEND;TZID=America/Detroit:20220523T140000
DTSTAMP:20260422T234331
CREATED:20220426T163307Z
LAST-MODIFIED:20220426T163307Z
UID:3487-1653307200-1653314400@rockyreader.com
SUMMARY:Beaders Group
DESCRIPTION:Meet last Mondays each month\nPre-register with Kealy\nLet Kealy know if you need/want a “beaders kit” \nBeaders work sessions are $2/hour \nContact Kealy \n419-202-4549\nKealygoodale@gmail.com
URL:https://rockyreader.com/calendar/beaders-group-7/
LOCATION:Craft Center\, 2453 Tremainsville Rd Unit B\, Toledo\, OH\, 43613\, United States
CATEGORIES:Beaders
END:VEVENT
BEGIN:VEVENT
DTSTART;TZID=America/Detroit:20220425T120000
DTEND;TZID=America/Detroit:20220425T140000
DTSTAMP:20260422T234331
CREATED:20220228T213017Z
LAST-MODIFIED:20220228T213017Z
UID:2825-1650888000-1650895200@rockyreader.com
SUMMARY:Beaders Group
DESCRIPTION:Meet last Mondays each month\nPre-register with Kealy\nLet Kealy know if you need/want a “beaders kit” \nBeaders work sessions are $2/hour \nContact Kealy \n419-202-4549\nKealygoodale@gmail.com
URL:https://rockyreader.com/calendar/beaders-group-6/
LOCATION:Craft Center\, 2453 Tremainsville Rd Unit B\, Toledo\, OH\, 43613\, United States
CATEGORIES:Beaders
END:VEVENT
BEGIN:VEVENT
DTSTART;TZID=America/Detroit:20220328T120000
DTEND;TZID=America/Detroit:20220328T140000
DTSTAMP:20260422T234331
CREATED:20220228T212938Z
LAST-MODIFIED:20220228T212938Z
UID:2823-1648468800-1648476000@rockyreader.com
SUMMARY:Beaders Group
DESCRIPTION:Meet last Mondays each month\nPre-register with Kealy\nLet Kealy know if you need/want a “beaders kit” \nBeaders work sessions are $2/hour \nContact Kealy \n419-202-4549\nKealygoodale@gmail.com
URL:https://rockyreader.com/calendar/beaders-group-3/
LOCATION:Craft Center\, 2453 Tremainsville Rd Unit B\, Toledo\, OH\, 43613\, United States
CATEGORIES:Beaders
END:VEVENT
BEGIN:VEVENT
DTSTART;TZID=America/Detroit:20220228T120000
DTEND;TZID=America/Detroit:20220228T140000
DTSTAMP:20260422T234331
CREATED:20220201T044249Z
LAST-MODIFIED:20220201T044249Z
UID:2728-1646049600-1646056800@rockyreader.com
SUMMARY:Beaders Group
DESCRIPTION:Meet last Mondays each month\nPre-register with Kealy\nLet Kealy know if you need/want a “beaders kit” \nBeaders work sessions are $2/hour \nContact Kealy \n419-202-4549\nKealygoodale@gmail.com
URL:https://rockyreader.com/calendar/beaders-group-5/
LOCATION:Craft Center\, 2453 Tremainsville Rd Unit B\, Toledo\, OH\, 43613\, United States
CATEGORIES:Beaders
END:VEVENT
BEGIN:VEVENT
DTSTART;TZID=America/Detroit:20220131T120000
DTEND;TZID=America/Detroit:20220131T140000
DTSTAMP:20260422T234331
CREATED:20211230T235841Z
LAST-MODIFIED:20211230T235841Z
UID:2346-1643630400-1643637600@rockyreader.com
SUMMARY:Beaders Group
DESCRIPTION:Meet last Mondays each month\nPre-register with Kealy\nLet Kealy know if you need/want a “beaders kit” \nJanuary project: Bezel embroidery \nBeaders work sessions are $1/hour \nContact Kealy \n419-202-4549\nKealygoodale@gmail.com
URL:https://rockyreader.com/calendar/beaders-group-4/
LOCATION:Craft Center\, 2453 Tremainsville Rd Unit B\, Toledo\, OH\, 43613\, United States
CATEGORIES:Beaders
END:VEVENT
BEGIN:VEVENT
DTSTART;TZID=America/Detroit:20211227T120000
DTEND;TZID=America/Detroit:20211227T140000
DTSTAMP:20260422T234331
CREATED:20211208T054253Z
LAST-MODIFIED:20211208T054253Z
UID:2318-1640606400-1640613600@rockyreader.com
SUMMARY:Beaders Group
DESCRIPTION:Meet last Mondays each month\nPre-register with Kealy\nLet Kealy know if you need/want a “beaders kit” \nBeaders work sessions are $1/hour \nContact Kealy \n419-202-4549\nKealygoodale@gmail.com
URL:https://rockyreader.com/calendar/beaders-group-2/
LOCATION:Craft Center\, 2453 Tremainsville Rd Unit B\, Toledo\, OH\, 43613\, United States
CATEGORIES:Beaders
END:VEVENT
BEGIN:VEVENT
DTSTART;TZID=America/Detroit:20211129T120000
DTEND;TZID=America/Detroit:20211129T140000
DTSTAMP:20260422T234331
CREATED:20211117T174056Z
LAST-MODIFIED:20211117T174056Z
UID:2304-1638187200-1638194400@rockyreader.com
SUMMARY:Beaders Group
DESCRIPTION:Meet & greet Orientation night.\nMeet last Mondays each month\nPre-register with Kealy\nLet Kealy know if you need/want a “beaders kit” \nBeaders work sessions are $1/hour \nContact Kealy \n419-202-4549\nKealygoodale@gmail.com
URL:https://rockyreader.com/calendar/beaders-group/
LOCATION:Craft Center\, 2453 Tremainsville Rd Unit B\, Toledo\, OH\, 43613\, United States
CATEGORIES:Beaders
END:VEVENT
BEGIN:VEVENT
DTSTART;TZID=UTC:20191224T090000
DTEND;TZID=UTC:20191224T170000
DTSTAMP:20260422T234331
CREATED:20190209T000611Z
LAST-MODIFIED:20190209T020215Z
UID:519-1577178000-1577206800@rockyreader.com
SUMMARY:Extreme Beaders
DESCRIPTION:Advanced seed and intricated beaders.  Meets every Tuesday from 9AM to 5PM.
URL:https://rockyreader.com/calendar/extreme-beaders-32/
LOCATION:OH
CATEGORIES:Beaders,Members Only
END:VEVENT
BEGIN:VEVENT
DTSTART;TZID=UTC:20191217T090000
DTEND;TZID=UTC:20191217T170000
DTSTAMP:20260422T234331
CREATED:20190209T000610Z
LAST-MODIFIED:20190209T020215Z
UID:518-1576573200-1576602000@rockyreader.com
SUMMARY:Extreme Beaders
DESCRIPTION:Advanced seed and intricated beaders.  Meets every Tuesday from 9AM to 5PM.
URL:https://rockyreader.com/calendar/extreme-beaders-31/
LOCATION:OH
CATEGORIES:Beaders,Members Only
END:VEVENT
BEGIN:VEVENT
DTSTART;TZID=UTC:20191210T090000
DTEND;TZID=UTC:20191210T170000
DTSTAMP:20260422T234331
CREATED:20190209T000610Z
LAST-MODIFIED:20190209T020215Z
UID:517-1575968400-1575997200@rockyreader.com
SUMMARY:Extreme Beaders
DESCRIPTION:Advanced seed and intricated beaders.  Meets every Tuesday from 9AM to 5PM.
URL:https://rockyreader.com/calendar/extreme-beaders-30/
LOCATION:OH
CATEGORIES:Beaders,Members Only
END:VEVENT
BEGIN:VEVENT
DTSTART;TZID=UTC:20191203T090000
DTEND;TZID=UTC:20191203T170000
DTSTAMP:20260422T234331
CREATED:20190209T000610Z
LAST-MODIFIED:20190209T020215Z
UID:516-1575363600-1575392400@rockyreader.com
SUMMARY:Extreme Beaders
DESCRIPTION:Advanced seed and intricated beaders.  Meets every Tuesday from 9AM to 5PM.
URL:https://rockyreader.com/calendar/extreme-beaders-29/
LOCATION:OH
CATEGORIES:Beaders,Members Only
END:VEVENT
BEGIN:VEVENT
DTSTART;TZID=UTC:20191126T090000
DTEND;TZID=UTC:20191126T170000
DTSTAMP:20260422T234331
CREATED:20190209T000610Z
LAST-MODIFIED:20190209T020215Z
UID:515-1574758800-1574787600@rockyreader.com
SUMMARY:Extreme Beaders
DESCRIPTION:Advanced seed and intricated beaders.  Meets every Tuesday from 9AM to 5PM.
URL:https://rockyreader.com/calendar/extreme-beaders-28/
LOCATION:OH
CATEGORIES:Beaders,Members Only
END:VEVENT
BEGIN:VEVENT
DTSTART;TZID=UTC:20191119T090000
DTEND;TZID=UTC:20191119T170000
DTSTAMP:20260422T234331
CREATED:20190209T000609Z
LAST-MODIFIED:20190209T020215Z
UID:514-1574154000-1574182800@rockyreader.com
SUMMARY:Extreme Beaders
DESCRIPTION:Advanced seed and intricated beaders.  Meets every Tuesday from 9AM to 5PM.
URL:https://rockyreader.com/calendar/extreme-beaders-27/
LOCATION:OH
CATEGORIES:Beaders,Members Only
END:VEVENT
BEGIN:VEVENT
DTSTART;TZID=UTC:20191112T090000
DTEND;TZID=UTC:20191112T170000
DTSTAMP:20260422T234331
CREATED:20190209T000608Z
LAST-MODIFIED:20190209T020215Z
UID:513-1573549200-1573578000@rockyreader.com
SUMMARY:Extreme Beaders
DESCRIPTION:Advanced seed and intricated beaders.  Meets every Tuesday from 9AM to 5PM.
URL:https://rockyreader.com/calendar/extreme-beaders-26/
LOCATION:OH
CATEGORIES:Beaders,Members Only
END:VEVENT
BEGIN:VEVENT
DTSTART;TZID=UTC:20191105T090000
DTEND;TZID=UTC:20191105T170000
DTSTAMP:20260422T234331
CREATED:20190209T000608Z
LAST-MODIFIED:20190209T020215Z
UID:512-1572944400-1572973200@rockyreader.com
SUMMARY:Extreme Beaders
DESCRIPTION:Advanced seed and intricated beaders.  Meets every Tuesday from 9AM to 5PM.
URL:https://rockyreader.com/calendar/extreme-beaders-25/
LOCATION:OH
CATEGORIES:Beaders,Members Only
END:VEVENT
BEGIN:VEVENT
DTSTART;TZID=UTC:20191029T090000
DTEND;TZID=UTC:20191029T170000
DTSTAMP:20260422T234331
CREATED:20190209T000608Z
LAST-MODIFIED:20190209T020215Z
UID:511-1572339600-1572368400@rockyreader.com
SUMMARY:Extreme Beaders
DESCRIPTION:Advanced seed and intricated beaders.  Meets every Tuesday from 9AM to 5PM.
URL:https://rockyreader.com/calendar/extreme-beaders-24/
LOCATION:OH
CATEGORIES:Beaders,Members Only
END:VEVENT
BEGIN:VEVENT
DTSTART;TZID=UTC:20191022T090000
DTEND;TZID=UTC:20191022T170000
DTSTAMP:20260422T234331
CREATED:20190209T000608Z
LAST-MODIFIED:20190209T020215Z
UID:510-1571734800-1571763600@rockyreader.com
SUMMARY:Extreme Beaders
DESCRIPTION:Advanced seed and intricated beaders.  Meets every Tuesday from 9AM to 5PM.
URL:https://rockyreader.com/calendar/extreme-beaders-23/
LOCATION:OH
CATEGORIES:Beaders,Members Only
END:VEVENT
END:VCALENDAR