BEGIN:VCALENDAR
VERSION:2.0
PRODID:-//Toledo Gem &amp; Rockhound Club - ECPv6.15.15//NONSGML v1.0//EN
CALSCALE:GREGORIAN
METHOD:PUBLISH
X-WR-CALNAME:Toledo Gem &amp; Rockhound Club
X-ORIGINAL-URL:https://rockyreader.com
X-WR-CALDESC:Events for Toledo Gem &amp; Rockhound Club
REFRESH-INTERVAL;VALUE=DURATION:PT1H
X-Robots-Tag:noindex
X-PUBLISHED-TTL:PT1H
BEGIN:VTIMEZONE
TZID:UTC
BEGIN:STANDARD
TZOFFSETFROM:+0000
TZOFFSETTO:+0000
TZNAME:UTC
DTSTART:20180101T000000
END:STANDARD
END:VTIMEZONE
BEGIN:VEVENT
DTSTART;TZID=UTC:20191015T090000
DTEND;TZID=UTC:20191015T170000
DTSTAMP:20260423T170620
CREATED:20190209T000607Z
LAST-MODIFIED:20190209T020215Z
UID:509-1571130000-1571158800@rockyreader.com
SUMMARY:Extreme Beaders
DESCRIPTION:Advanced seed and intricated beaders.  Meets every Tuesday from 9AM to 5PM.
URL:https://rockyreader.com/calendar/extreme-beaders-22/
CATEGORIES:Beaders,Members Only
END:VEVENT
BEGIN:VEVENT
DTSTART;TZID=UTC:20191008T090000
DTEND;TZID=UTC:20191008T170000
DTSTAMP:20260423T170620
CREATED:20190209T000607Z
LAST-MODIFIED:20190209T020215Z
UID:508-1570525200-1570554000@rockyreader.com
SUMMARY:Extreme Beaders
DESCRIPTION:Advanced seed and intricated beaders.  Meets every Tuesday from 9AM to 5PM.
URL:https://rockyreader.com/calendar/extreme-beaders-21/
CATEGORIES:Beaders,Members Only
END:VEVENT
BEGIN:VEVENT
DTSTART;TZID=UTC:20191001T090000
DTEND;TZID=UTC:20191001T170000
DTSTAMP:20260423T170620
CREATED:20190209T000606Z
LAST-MODIFIED:20190209T020215Z
UID:506-1569920400-1569949200@rockyreader.com
SUMMARY:Extreme Beaders
DESCRIPTION:Advanced seed and intricated beaders.  Meets every Tuesday from 9AM to 5PM.
URL:https://rockyreader.com/calendar/extreme-beaders-20/
CATEGORIES:Beaders,Members Only
END:VEVENT
BEGIN:VEVENT
DTSTART;TZID=UTC:20190924T090000
DTEND;TZID=UTC:20190924T170000
DTSTAMP:20260423T170620
CREATED:20190209T000606Z
LAST-MODIFIED:20190209T020215Z
UID:505-1569315600-1569344400@rockyreader.com
SUMMARY:Extreme Beaders
DESCRIPTION:Advanced seed and intricated beaders.  Meets every Tuesday from 9AM to 5PM.
URL:https://rockyreader.com/calendar/extreme-beaders-19/
CATEGORIES:Beaders,Members Only
END:VEVENT
BEGIN:VEVENT
DTSTART;TZID=UTC:20190917T090000
DTEND;TZID=UTC:20190917T170000
DTSTAMP:20260423T170620
CREATED:20190209T000606Z
LAST-MODIFIED:20190209T020215Z
UID:504-1568710800-1568739600@rockyreader.com
SUMMARY:Extreme Beaders
DESCRIPTION:Advanced seed and intricated beaders.  Meets every Tuesday from 9AM to 5PM.
URL:https://rockyreader.com/calendar/extreme-beaders-18/
CATEGORIES:Beaders,Members Only
END:VEVENT
BEGIN:VEVENT
DTSTART;TZID=UTC:20190910T090000
DTEND;TZID=UTC:20190910T170000
DTSTAMP:20260423T170620
CREATED:20190209T000604Z
LAST-MODIFIED:20190209T020215Z
UID:503-1568106000-1568134800@rockyreader.com
SUMMARY:Extreme Beaders
DESCRIPTION:Advanced seed and intricated beaders.  Meets every Tuesday from 9AM to 5PM.
URL:https://rockyreader.com/calendar/extreme-beaders-17/
CATEGORIES:Beaders,Members Only
END:VEVENT
BEGIN:VEVENT
DTSTART;TZID=UTC:20190903T090000
DTEND;TZID=UTC:20190903T170000
DTSTAMP:20260423T170620
CREATED:20190209T000604Z
LAST-MODIFIED:20190209T020233Z
UID:502-1567501200-1567530000@rockyreader.com
SUMMARY:Extreme Beaders
DESCRIPTION:Advanced seed and intricated beaders.  Meets every Tuesday from 9AM to 5PM.
URL:https://rockyreader.com/calendar/extreme-beaders-16/
CATEGORIES:Beaders,Members Only
END:VEVENT
BEGIN:VEVENT
DTSTART;TZID=UTC:20190827T090000
DTEND;TZID=UTC:20190827T170000
DTSTAMP:20260423T170620
CREATED:20190209T000604Z
LAST-MODIFIED:20190209T020233Z
UID:501-1566896400-1566925200@rockyreader.com
SUMMARY:Extreme Beaders
DESCRIPTION:Advanced seed and intricated beaders.  Meets every Tuesday from 9AM to 5PM.
URL:https://rockyreader.com/calendar/extreme-beaders-15/
CATEGORIES:Beaders,Members Only
END:VEVENT
BEGIN:VEVENT
DTSTART;TZID=UTC:20190820T090000
DTEND;TZID=UTC:20190820T170000
DTSTAMP:20260423T170620
CREATED:20190209T000604Z
LAST-MODIFIED:20190209T020233Z
UID:500-1566291600-1566320400@rockyreader.com
SUMMARY:Extreme Beaders
DESCRIPTION:Advanced seed and intricated beaders.  Meets every Tuesday from 9AM to 5PM.
URL:https://rockyreader.com/calendar/extreme-beaders-14/
CATEGORIES:Beaders,Members Only
END:VEVENT
BEGIN:VEVENT
DTSTART;TZID=UTC:20190813T090000
DTEND;TZID=UTC:20190813T170000
DTSTAMP:20260423T170620
CREATED:20190209T000604Z
LAST-MODIFIED:20190209T020233Z
UID:499-1565686800-1565715600@rockyreader.com
SUMMARY:Extreme Beaders
DESCRIPTION:Advanced seed and intricated beaders.  Meets every Tuesday from 9AM to 5PM.
URL:https://rockyreader.com/calendar/extreme-beaders-13/
CATEGORIES:Beaders,Members Only
END:VEVENT
BEGIN:VEVENT
DTSTART;TZID=UTC:20190806T090000
DTEND;TZID=UTC:20190806T170000
DTSTAMP:20260423T170620
CREATED:20190209T000603Z
LAST-MODIFIED:20190209T020233Z
UID:498-1565082000-1565110800@rockyreader.com
SUMMARY:Extreme Beaders
DESCRIPTION:Advanced seed and intricated beaders.  Meets every Tuesday from 9AM to 5PM.
URL:https://rockyreader.com/calendar/extreme-beaders-12/
CATEGORIES:Beaders,Members Only
END:VEVENT
BEGIN:VEVENT
DTSTART;TZID=UTC:20190730T090000
DTEND;TZID=UTC:20190730T170000
DTSTAMP:20260423T170620
CREATED:20190209T000603Z
LAST-MODIFIED:20190209T020233Z
UID:497-1564477200-1564506000@rockyreader.com
SUMMARY:Extreme Beaders
DESCRIPTION:Advanced seed and intricated beaders.  Meets every Tuesday from 9AM to 5PM.
URL:https://rockyreader.com/calendar/extreme-beaders-11/
CATEGORIES:Beaders,Members Only
END:VEVENT
BEGIN:VEVENT
DTSTART;TZID=UTC:20190723T090000
DTEND;TZID=UTC:20190723T170000
DTSTAMP:20260423T170620
CREATED:20190209T000603Z
LAST-MODIFIED:20190209T020233Z
UID:496-1563872400-1563901200@rockyreader.com
SUMMARY:Extreme Beaders
DESCRIPTION:Advanced seed and intricated beaders.  Meets every Tuesday from 9AM to 5PM.
URL:https://rockyreader.com/calendar/extreme-beaders-10/
CATEGORIES:Beaders,Members Only
END:VEVENT
BEGIN:VEVENT
DTSTART;TZID=UTC:20190716T090000
DTEND;TZID=UTC:20190716T170000
DTSTAMP:20260423T170620
CREATED:20190209T000602Z
LAST-MODIFIED:20190209T020234Z
UID:495-1563267600-1563296400@rockyreader.com
SUMMARY:Extreme Beaders
DESCRIPTION:Advanced seed and intricated beaders.  Meets every Tuesday from 9AM to 5PM.
URL:https://rockyreader.com/calendar/extreme-beaders-9/
CATEGORIES:Beaders,Members Only
END:VEVENT
BEGIN:VEVENT
DTSTART;TZID=UTC:20190709T090000
DTEND;TZID=UTC:20190709T170000
DTSTAMP:20260423T170620
CREATED:20190209T000602Z
LAST-MODIFIED:20190209T020234Z
UID:494-1562662800-1562691600@rockyreader.com
SUMMARY:Extreme Beaders
DESCRIPTION:Advanced seed and intricated beaders.  Meets every Tuesday from 9AM to 5PM.
URL:https://rockyreader.com/calendar/extreme-beaders-8/
CATEGORIES:Beaders,Members Only
END:VEVENT
BEGIN:VEVENT
DTSTART;TZID=UTC:20190702T090000
DTEND;TZID=UTC:20190702T170000
DTSTAMP:20260423T170620
CREATED:20190209T000601Z
LAST-MODIFIED:20190209T020234Z
UID:493-1562058000-1562086800@rockyreader.com
SUMMARY:Extreme Beaders
DESCRIPTION:Advanced seed and intricated beaders.  Meets every Tuesday from 9AM to 5PM.
URL:https://rockyreader.com/calendar/extreme-beaders-7/
CATEGORIES:Beaders,Members Only
END:VEVENT
BEGIN:VEVENT
DTSTART;TZID=UTC:20190625T090000
DTEND;TZID=UTC:20190625T170000
DTSTAMP:20260423T170620
CREATED:20190209T000600Z
LAST-MODIFIED:20190209T020234Z
UID:492-1561453200-1561482000@rockyreader.com
SUMMARY:Extreme Beaders
DESCRIPTION:Advanced seed and intricated beaders.  Meets every Tuesday from 9AM to 5PM.
URL:https://rockyreader.com/calendar/extreme-beaders-6/
CATEGORIES:Beaders,Members Only
END:VEVENT
BEGIN:VEVENT
DTSTART;TZID=UTC:20190618T090000
DTEND;TZID=UTC:20190618T170000
DTSTAMP:20260423T170620
CREATED:20190209T000600Z
LAST-MODIFIED:20190209T020234Z
UID:491-1560848400-1560877200@rockyreader.com
SUMMARY:Extreme Beaders
DESCRIPTION:Advanced seed and intricated beaders.  Meets every Tuesday from 9AM to 5PM.
URL:https://rockyreader.com/calendar/extreme-beaders-5/
CATEGORIES:Beaders,Members Only
END:VEVENT
BEGIN:VEVENT
DTSTART;TZID=UTC:20190611T090000
DTEND;TZID=UTC:20190611T170000
DTSTAMP:20260423T170620
CREATED:20190209T000600Z
LAST-MODIFIED:20190209T020234Z
UID:490-1560243600-1560272400@rockyreader.com
SUMMARY:Extreme Beaders
DESCRIPTION:Advanced seed and intricated beaders.  Meets every Tuesday from 9AM to 5PM.
URL:https://rockyreader.com/calendar/extreme-beaders-4/
CATEGORIES:Beaders,Members Only
END:VEVENT
BEGIN:VEVENT
DTSTART;TZID=UTC:20190604T090000
DTEND;TZID=UTC:20190604T170000
DTSTAMP:20260423T170620
CREATED:20190209T000600Z
LAST-MODIFIED:20190209T020234Z
UID:489-1559638800-1559667600@rockyreader.com
SUMMARY:Extreme Beaders
DESCRIPTION:Advanced seed and intricated beaders.  Meets every Tuesday from 9AM to 5PM.
URL:https://rockyreader.com/calendar/extreme-beaders-3/
CATEGORIES:Beaders,Members Only
END:VEVENT
BEGIN:VEVENT
DTSTART;TZID=UTC:20190528T090000
DTEND;TZID=UTC:20190528T170000
DTSTAMP:20260423T170620
CREATED:20190209T000559Z
LAST-MODIFIED:20190209T020234Z
UID:488-1559034000-1559062800@rockyreader.com
SUMMARY:Extreme Beaders
DESCRIPTION:Advanced seed and intricated beaders.  Meets every Tuesday from 9AM to 5PM.
URL:https://rockyreader.com/calendar/extreme-beaders-2/
CATEGORIES:Beaders,Members Only
END:VEVENT
BEGIN:VEVENT
DTSTART;TZID=UTC:20190521T090000
DTEND;TZID=UTC:20190521T170000
DTSTAMP:20260423T170620
CREATED:20190209T000559Z
LAST-MODIFIED:20190209T020234Z
UID:487-1558429200-1558458000@rockyreader.com
SUMMARY:Extreme Beaders
DESCRIPTION:Advanced seed and intricated beaders.  Meets every Tuesday from 9AM to 5PM.
URL:https://rockyreader.com/calendar/extreme-beaders/
CATEGORIES:Beaders,Members Only
END:VEVENT
BEGIN:VEVENT
DTSTART;TZID=UTC:20190514T090000
DTEND;TZID=UTC:20190514T170000
DTSTAMP:20260423T170620
CREATED:20190209T000656Z
LAST-MODIFIED:20190209T020104Z
UID:636-1557824400-1557853200@rockyreader.com
SUMMARY:Extreme Beaders
DESCRIPTION:Advanced seed and intricated beaders.  Meets every Tuesday from 9AM to 5PM.
URL:https://rockyreader.com/calendar/extreme-beaders-56/
CATEGORIES:Beaders,Members Only
END:VEVENT
BEGIN:VEVENT
DTSTART;TZID=UTC:20190507T090000
DTEND;TZID=UTC:20190507T170000
DTSTAMP:20260423T170620
CREATED:20190209T000656Z
LAST-MODIFIED:20190209T020104Z
UID:635-1557219600-1557248400@rockyreader.com
SUMMARY:Extreme Beaders
DESCRIPTION:Advanced seed and intricated beaders.  Meets every Tuesday from 9AM to 5PM.
URL:https://rockyreader.com/calendar/extreme-beaders-55/
CATEGORIES:Beaders,Members Only
END:VEVENT
BEGIN:VEVENT
DTSTART;TZID=UTC:20190430T090000
DTEND;TZID=UTC:20190430T170000
DTSTAMP:20260423T170620
CREATED:20190209T000656Z
LAST-MODIFIED:20190209T020105Z
UID:634-1556614800-1556643600@rockyreader.com
SUMMARY:Extreme Beaders
DESCRIPTION:Advanced seed and intricated beaders.  Meets every Tuesday from 9AM to 5PM.
URL:https://rockyreader.com/calendar/extreme-beaders-54/
CATEGORIES:Beaders,Members Only
END:VEVENT
BEGIN:VEVENT
DTSTART;TZID=UTC:20190423T090000
DTEND;TZID=UTC:20190423T170000
DTSTAMP:20260423T170620
CREATED:20190209T000655Z
LAST-MODIFIED:20190209T020105Z
UID:633-1556010000-1556038800@rockyreader.com
SUMMARY:Extreme Beaders
DESCRIPTION:Advanced seed and intricated beaders.  Meets every Tuesday from 9AM to 5PM.
URL:https://rockyreader.com/calendar/extreme-beaders-53/
CATEGORIES:Beaders,Members Only
END:VEVENT
BEGIN:VEVENT
DTSTART;TZID=UTC:20190416T090000
DTEND;TZID=UTC:20190416T170000
DTSTAMP:20260423T170620
CREATED:20190209T000655Z
LAST-MODIFIED:20190209T020105Z
UID:632-1555405200-1555434000@rockyreader.com
SUMMARY:Extreme Beaders
DESCRIPTION:Advanced seed and intricated beaders.  Meets every Tuesday from 9AM to 5PM.
URL:https://rockyreader.com/calendar/extreme-beaders-52/
CATEGORIES:Beaders,Members Only
END:VEVENT
BEGIN:VEVENT
DTSTART;TZID=UTC:20190409T090000
DTEND;TZID=UTC:20190409T170000
DTSTAMP:20260423T170620
CREATED:20190209T000655Z
LAST-MODIFIED:20190209T020105Z
UID:631-1554800400-1554829200@rockyreader.com
SUMMARY:Extreme Beaders
DESCRIPTION:Advanced seed and intricated beaders.  Meets every Tuesday from 9AM to 5PM.
URL:https://rockyreader.com/calendar/extreme-beaders-51/
CATEGORIES:Beaders,Members Only
END:VEVENT
BEGIN:VEVENT
DTSTART;TZID=UTC:20190402T090000
DTEND;TZID=UTC:20190402T170000
DTSTAMP:20260423T170620
CREATED:20190209T000655Z
LAST-MODIFIED:20190209T020105Z
UID:630-1554195600-1554224400@rockyreader.com
SUMMARY:Extreme Beaders
DESCRIPTION:Advanced seed and intricated beaders.  Meets every Tuesday from 9AM to 5PM.
URL:https://rockyreader.com/calendar/extreme-beaders-50/
CATEGORIES:Beaders,Members Only
END:VEVENT
BEGIN:VEVENT
DTSTART;TZID=UTC:20190326T090000
DTEND;TZID=UTC:20190326T170000
DTSTAMP:20260423T170620
CREATED:20190209T000654Z
LAST-MODIFIED:20190209T020105Z
UID:629-1553590800-1553619600@rockyreader.com
SUMMARY:Extreme Beaders
DESCRIPTION:Advanced seed and intricated beaders.  Meets every Tuesday from 9AM to 5PM.
URL:https://rockyreader.com/calendar/extreme-beaders-49/
CATEGORIES:Beaders,Members Only
END:VEVENT
END:VCALENDAR