BEGIN:VCALENDAR
VERSION:2.0
PRODID:-//Toledo Gem &amp; Rockhound Club - ECPv6.15.15//NONSGML v1.0//EN
CALSCALE:GREGORIAN
METHOD:PUBLISH
X-WR-CALNAME:Toledo Gem &amp; Rockhound Club
X-ORIGINAL-URL:https://rockyreader.com
X-WR-CALDESC:Events for Toledo Gem &amp; Rockhound Club
REFRESH-INTERVAL;VALUE=DURATION:PT1H
X-Robots-Tag:noindex
X-PUBLISHED-TTL:PT1H
BEGIN:VTIMEZONE
TZID:UTC
BEGIN:STANDARD
TZOFFSETFROM:+0000
TZOFFSETTO:+0000
TZNAME:UTC
DTSTART:20170101T000000
END:STANDARD
END:VTIMEZONE
BEGIN:VEVENT
DTSTART;TZID=UTC:20190108T090000
DTEND;TZID=UTC:20190108T170000
DTSTAMP:20260424T043500
CREATED:20190209T000650Z
LAST-MODIFIED:20190209T020105Z
UID:618-1546938000-1546966800@rockyreader.com
SUMMARY:Extreme Beaders
DESCRIPTION:Advanced seed and intricated beaders.  Meets every Tuesday from 9AM to 5PM.
URL:https://rockyreader.com/calendar/extreme-beaders-38/
CATEGORIES:Beaders,Members Only
END:VEVENT
BEGIN:VEVENT
DTSTART;TZID=UTC:20190101T090000
DTEND;TZID=UTC:20190101T170000
DTSTAMP:20260424T043500
CREATED:20190209T000650Z
LAST-MODIFIED:20190209T020105Z
UID:617-1546333200-1546362000@rockyreader.com
SUMMARY:Extreme Beaders
DESCRIPTION:Advanced seed and intricated beaders.  Meets every Tuesday from 9AM to 5PM.
URL:https://rockyreader.com/calendar/extreme-beaders-37/
CATEGORIES:Beaders,Members Only
END:VEVENT
BEGIN:VEVENT
DTSTART;TZID=UTC:20181225T090000
DTEND;TZID=UTC:20181225T170000
DTSTAMP:20260424T043500
CREATED:20190209T000650Z
LAST-MODIFIED:20190209T020214Z
UID:616-1545728400-1545757200@rockyreader.com
SUMMARY:Extreme Beaders
DESCRIPTION:Advanced seed and intricated beaders.  Meets every Tuesday from 9AM to 5PM.
URL:https://rockyreader.com/calendar/extreme-beaders-36/
CATEGORIES:Beaders,Members Only
END:VEVENT
BEGIN:VEVENT
DTSTART;TZID=UTC:20181218T090000
DTEND;TZID=UTC:20181218T170000
DTSTAMP:20260424T043500
CREATED:20190209T000649Z
LAST-MODIFIED:20190209T020215Z
UID:615-1545123600-1545152400@rockyreader.com
SUMMARY:Extreme Beaders
DESCRIPTION:Advanced seed and intricated beaders.  Meets every Tuesday from 9AM to 5PM.
URL:https://rockyreader.com/calendar/extreme-beaders-35/
CATEGORIES:Beaders,Members Only
END:VEVENT
END:VCALENDAR