BEGIN:VCALENDAR
VERSION:2.0
PRODID:-//Toledo Gem &amp; Rockhound Club - ECPv6.15.15//NONSGML v1.0//EN
CALSCALE:GREGORIAN
METHOD:PUBLISH
X-WR-CALNAME:Toledo Gem &amp; Rockhound Club
X-ORIGINAL-URL:https://rockyreader.com
X-WR-CALDESC:Events for Toledo Gem &amp; Rockhound Club
REFRESH-INTERVAL;VALUE=DURATION:PT1H
X-Robots-Tag:noindex
X-PUBLISHED-TTL:PT1H
BEGIN:VTIMEZONE
TZID:America/Detroit
BEGIN:DAYLIGHT
TZOFFSETFROM:-0500
TZOFFSETTO:-0400
TZNAME:EDT
DTSTART:20200308T070000
END:DAYLIGHT
BEGIN:STANDARD
TZOFFSETFROM:-0400
TZOFFSETTO:-0500
TZNAME:EST
DTSTART:20201101T060000
END:STANDARD
BEGIN:DAYLIGHT
TZOFFSETFROM:-0500
TZOFFSETTO:-0400
TZNAME:EDT
DTSTART:20210314T070000
END:DAYLIGHT
BEGIN:STANDARD
TZOFFSETFROM:-0400
TZOFFSETTO:-0500
TZNAME:EST
DTSTART:20211107T060000
END:STANDARD
BEGIN:DAYLIGHT
TZOFFSETFROM:-0500
TZOFFSETTO:-0400
TZNAME:EDT
DTSTART:20220313T070000
END:DAYLIGHT
BEGIN:STANDARD
TZOFFSETFROM:-0400
TZOFFSETTO:-0500
TZNAME:EST
DTSTART:20221106T060000
END:STANDARD
BEGIN:DAYLIGHT
TZOFFSETFROM:-0500
TZOFFSETTO:-0400
TZNAME:EDT
DTSTART:20230312T070000
END:DAYLIGHT
BEGIN:STANDARD
TZOFFSETFROM:-0400
TZOFFSETTO:-0500
TZNAME:EST
DTSTART:20231105T060000
END:STANDARD
BEGIN:DAYLIGHT
TZOFFSETFROM:-0500
TZOFFSETTO:-0400
TZNAME:EDT
DTSTART:20240310T070000
END:DAYLIGHT
BEGIN:STANDARD
TZOFFSETFROM:-0400
TZOFFSETTO:-0500
TZNAME:EST
DTSTART:20241103T060000
END:STANDARD
BEGIN:DAYLIGHT
TZOFFSETFROM:-0500
TZOFFSETTO:-0400
TZNAME:EDT
DTSTART:20250309T070000
END:DAYLIGHT
BEGIN:STANDARD
TZOFFSETFROM:-0400
TZOFFSETTO:-0500
TZNAME:EST
DTSTART:20251102T060000
END:STANDARD
BEGIN:DAYLIGHT
TZOFFSETFROM:-0500
TZOFFSETTO:-0400
TZNAME:EDT
DTSTART:20260308T070000
END:DAYLIGHT
BEGIN:STANDARD
TZOFFSETFROM:-0400
TZOFFSETTO:-0500
TZNAME:EST
DTSTART:20261101T060000
END:STANDARD
END:VTIMEZONE
BEGIN:VEVENT
DTSTART;TZID=America/Detroit:20250114T180000
DTEND;TZID=America/Detroit:20250114T193000
DTSTAMP:20260419T100217
CREATED:20250107T014354Z
LAST-MODIFIED:20250107T014354Z
UID:5923-1736877600-1736883000@rockyreader.com
SUMMARY:TGRC Board Meeting
DESCRIPTION:All welcome.
URL:https://rockyreader.com/calendar/tgrc-board-meeting-5/
CATEGORIES:Board Meeting
END:VEVENT
BEGIN:VEVENT
DTSTART;TZID=America/Detroit:20230111T080000
DTEND;TZID=America/Detroit:20230111T170000
DTSTAMP:20260419T100217
CREATED:20230105T020207Z
LAST-MODIFIED:20230105T020207Z
UID:4096-1673424000-1673456400@rockyreader.com
SUMMARY:TGRC Board Meeting
DESCRIPTION:7:00 p.m. Craft Center
URL:https://rockyreader.com/calendar/tgrc-board-meeting-4/
CATEGORIES:Board Meeting
END:VEVENT
BEGIN:VEVENT
DTSTART;TZID=America/Detroit:20220203T190000
DTEND;TZID=America/Detroit:20220203T203000
DTSTAMP:20260419T100217
CREATED:20220121T022252Z
LAST-MODIFIED:20220202T232752Z
UID:2627-1643914800-1643920200@rockyreader.com
SUMMARY:Board Meeting-Weather Cancel
DESCRIPTION:TGRC Board Meeting 7:00 p.m.\nIn person meeting at the Craft Center \nIf you can’t make it\, contact Joanna for virtual connection
URL:https://rockyreader.com/calendar/board-meeting-3/
LOCATION:Craft Center\, 2453 Tremainsville Rd Unit B\, Toledo\, OH\, 43613\, United States
CATEGORIES:Board Meeting
END:VEVENT
BEGIN:VEVENT
DTSTART;TZID=America/Detroit:20210609T190000
DTEND;TZID=America/Detroit:20210609T203000
DTSTAMP:20260419T100217
CREATED:20210602T235134Z
LAST-MODIFIED:20210602T235134Z
UID:2000-1623265200-1623270600@rockyreader.com
SUMMARY:TGRC Board Meeting
DESCRIPTION:Board meetings are back to in-person. See Holly (contact info in Newsletter) if you would like to participate or have suggestions/recommendations or questions for the board. \nLocation: Craft Center 2453 Tremainsville\, Toledo\, OH 43613
URL:https://rockyreader.com/calendar/tgrc-board-meeting-3/
LOCATION:Craft Center\, 2453 Tremainsville Rd Unit B\, Toledo\, OH\, 43613\, United States
CATEGORIES:Board Meeting
END:VEVENT
BEGIN:VEVENT
DTSTART;TZID=America/Detroit:20210512T190000
DTEND;TZID=America/Detroit:20210512T203000
DTSTAMP:20260419T100217
CREATED:20210422T001539Z
LAST-MODIFIED:20210504T004503Z
UID:1845-1620846000-1620851400@rockyreader.com
SUMMARY:TGRC Board Meeting
DESCRIPTION:Board meetings are back to in-person. See Holly (contact info in Newsletter) if you would like to participate or have suggestions/recommendations or questions for the board. \nLocation: Craft Center 2453 Tremainsville\, Toledo\, OH 43613
URL:https://rockyreader.com/calendar/tgrc-board-meeting-2/
LOCATION:Craft Center\, 2453 Tremainsville Rd Unit B\, Toledo\, OH\, 43613\, United States
CATEGORIES:Board Meeting
END:VEVENT
END:VCALENDAR