BEGIN:VCALENDAR
VERSION:2.0
PRODID:-//Toledo Gem &amp; Rockhound Club - ECPv6.15.15//NONSGML v1.0//EN
CALSCALE:GREGORIAN
METHOD:PUBLISH
X-ORIGINAL-URL:https://rockyreader.com
X-WR-CALDESC:Events for Toledo Gem &amp; Rockhound Club
REFRESH-INTERVAL;VALUE=DURATION:PT1H
X-Robots-Tag:noindex
X-PUBLISHED-TTL:PT1H
BEGIN:VTIMEZONE
TZID:UTC
BEGIN:STANDARD
TZOFFSETFROM:+0000
TZOFFSETTO:+0000
TZNAME:UTC
DTSTART:20180101T000000
END:STANDARD
END:VTIMEZONE
BEGIN:VEVENT
DTSTART;TZID=UTC:20190323T140000
DTEND;TZID=UTC:20190323T140000
DTSTAMP:20260420T202405
CREATED:20190320T152046Z
LAST-MODIFIED:20190320T152046Z
UID:1284-1553349600-1553349600@rockyreader.com
SUMMARY:Future Rockhounds of America
DESCRIPTION:Juniors meet in the Craft Center at the Toledo Botanical Gardens.
URL:https://rockyreader.com/calendar/future-rockhounds-of-america-2/
CATEGORIES:Future Rockhounds of America,Members Only
END:VEVENT
BEGIN:VEVENT
DTSTART;TZID=UTC:20190126T140000
DTEND;TZID=UTC:20190126T160000
DTSTAMP:20260420T202405
CREATED:20190209T000606Z
LAST-MODIFIED:20190209T020549Z
UID:507-1548511200-1548518400@rockyreader.com
SUMMARY:Future Rockhounds of America
DESCRIPTION:Juniors meet in the Craft Center at the Toledo Botanical Gardens.
URL:https://rockyreader.com/calendar/future-rockhounds-of-america/
CATEGORIES:Future Rockhounds of America,Members Only
END:VEVENT
END:VCALENDAR