BEGIN:VCALENDAR
VERSION:2.0
PRODID:-//Toledo Gem &amp; Rockhound Club - ECPv6.15.15//NONSGML v1.0//EN
CALSCALE:GREGORIAN
METHOD:PUBLISH
X-WR-CALNAME:Toledo Gem &amp; Rockhound Club
X-ORIGINAL-URL:https://rockyreader.com
X-WR-CALDESC:Events for Toledo Gem &amp; Rockhound Club
REFRESH-INTERVAL;VALUE=DURATION:PT1H
X-Robots-Tag:noindex
X-PUBLISHED-TTL:PT1H
BEGIN:VTIMEZONE
TZID:UTC
BEGIN:STANDARD
TZOFFSETFROM:+0000
TZOFFSETTO:+0000
TZNAME:UTC
DTSTART:20180101T000000
END:STANDARD
END:VTIMEZONE
BEGIN:VEVENT
DTSTART;TZID=UTC:20200330T110000
DTEND;TZID=UTC:20200330T150000
DTSTAMP:20260421T010131
CREATED:20200308T215421Z
LAST-MODIFIED:20200308T215421Z
UID:1423-1585566000-1585580400@rockyreader.com
SUMMARY:March Mondays
DESCRIPTION:New craft center work sessions 11am to 3pm led by Michelle.
URL:https://rockyreader.com/calendar/march-mondays-2-2/
CATEGORIES:Members Only
END:VEVENT
BEGIN:VEVENT
DTSTART;TZID=UTC:20200323T110000
DTEND;TZID=UTC:20200323T150000
DTSTAMP:20260421T010131
CREATED:20200308T215356Z
LAST-MODIFIED:20200308T215356Z
UID:1421-1584961200-1584975600@rockyreader.com
SUMMARY:March Mondays
DESCRIPTION:New craft center work sessions 11am to 3pm led by Michelle.
URL:https://rockyreader.com/calendar/march-mondays-2/
CATEGORIES:Members Only
END:VEVENT
BEGIN:VEVENT
DTSTART;TZID=UTC:20200316T110000
DTEND;TZID=UTC:20200316T150000
DTSTAMP:20260421T010131
CREATED:20200308T215253Z
LAST-MODIFIED:20200308T215253Z
UID:1418-1584356400-1584370800@rockyreader.com
SUMMARY:March Mondays
DESCRIPTION:New craft center work sessions 11am to 3pm led by Michelle.
URL:https://rockyreader.com/calendar/march-mondays/
CATEGORIES:Members Only
END:VEVENT
BEGIN:VEVENT
DTSTART;TZID=UTC:20191226T120000
DTEND;TZID=UTC:20191226T160000
DTSTAMP:20260421T010131
CREATED:20190209T000648Z
LAST-MODIFIED:20190209T020017Z
UID:612-1577361600-1577376000@rockyreader.com
SUMMARY:Gem Crafters
DESCRIPTION:Lapidary Work
URL:https://rockyreader.com/calendar/gem-crafters-103/
CATEGORIES:Gem Crafters,Members Only
END:VEVENT
BEGIN:VEVENT
DTSTART;TZID=UTC:20191225T183000
DTEND;TZID=UTC:20191225T203000
DTSTAMP:20260421T010131
CREATED:20190209T000559Z
LAST-MODIFIED:20190209T020413Z
UID:486-1577298600-1577305800@rockyreader.com
SUMMARY:Gem Crafters
DESCRIPTION:Regular Workshop and meeting of the Gemcraft group of the Toledo Gem and Rockhound Club.  Currently housed in the CRAFT CENTER BUILDING.
URL:https://rockyreader.com/calendar/gem-crafters-18/
CATEGORIES:Gem Crafters,Members Only
END:VEVENT
BEGIN:VEVENT
DTSTART;TZID=UTC:20191224T090000
DTEND;TZID=UTC:20191224T170000
DTSTAMP:20260421T010131
CREATED:20190209T000611Z
LAST-MODIFIED:20190209T020215Z
UID:519-1577178000-1577206800@rockyreader.com
SUMMARY:Extreme Beaders
DESCRIPTION:Advanced seed and intricated beaders.  Meets every Tuesday from 9AM to 5PM.
URL:https://rockyreader.com/calendar/extreme-beaders-32/
CATEGORIES:Beaders,Members Only
END:VEVENT
BEGIN:VEVENT
DTSTART;TZID=UTC:20191219T120000
DTEND;TZID=UTC:20191219T160000
DTSTAMP:20260421T010131
CREATED:20190209T000647Z
LAST-MODIFIED:20190209T020018Z
UID:611-1576756800-1576771200@rockyreader.com
SUMMARY:Gem Crafters
DESCRIPTION:Lapidary Work
URL:https://rockyreader.com/calendar/gem-crafters-102/
CATEGORIES:Gem Crafters,Members Only
END:VEVENT
BEGIN:VEVENT
DTSTART;TZID=UTC:20191217T090000
DTEND;TZID=UTC:20191217T170000
DTSTAMP:20260421T010131
CREATED:20190209T000610Z
LAST-MODIFIED:20190209T020215Z
UID:518-1576573200-1576602000@rockyreader.com
SUMMARY:Extreme Beaders
DESCRIPTION:Advanced seed and intricated beaders.  Meets every Tuesday from 9AM to 5PM.
URL:https://rockyreader.com/calendar/extreme-beaders-31/
CATEGORIES:Beaders,Members Only
END:VEVENT
BEGIN:VEVENT
DTSTART;TZID=UTC:20191212T120000
DTEND;TZID=UTC:20191212T160000
DTSTAMP:20260421T010131
CREATED:20190209T000647Z
LAST-MODIFIED:20190209T020018Z
UID:610-1576152000-1576166400@rockyreader.com
SUMMARY:Gem Crafters
DESCRIPTION:Lapidary Work
URL:https://rockyreader.com/calendar/gem-crafters-101/
CATEGORIES:Gem Crafters,Members Only
END:VEVENT
BEGIN:VEVENT
DTSTART;TZID=UTC:20191211T183000
DTEND;TZID=UTC:20191211T203000
DTSTAMP:20260421T010131
CREATED:20190209T000558Z
LAST-MODIFIED:20190209T020413Z
UID:484-1576089000-1576096200@rockyreader.com
SUMMARY:Gem Crafters
DESCRIPTION:Regular Workshop and meeting of the Gemcraft group of the Toledo Gem and Rockhound Club.  Currently housed in the CRAFT CENTER BUILDING.
URL:https://rockyreader.com/calendar/gem-crafters-17/
CATEGORIES:Gem Crafters,Members Only
END:VEVENT
BEGIN:VEVENT
DTSTART;TZID=UTC:20191210T090000
DTEND;TZID=UTC:20191210T170000
DTSTAMP:20260421T010131
CREATED:20190209T000610Z
LAST-MODIFIED:20190209T020215Z
UID:517-1575968400-1575997200@rockyreader.com
SUMMARY:Extreme Beaders
DESCRIPTION:Advanced seed and intricated beaders.  Meets every Tuesday from 9AM to 5PM.
URL:https://rockyreader.com/calendar/extreme-beaders-30/
CATEGORIES:Beaders,Members Only
END:VEVENT
BEGIN:VEVENT
DTSTART;TZID=UTC:20191205T120000
DTEND;TZID=UTC:20191205T160000
DTSTAMP:20260421T010131
CREATED:20190209T000647Z
LAST-MODIFIED:20190209T020018Z
UID:609-1575547200-1575561600@rockyreader.com
SUMMARY:Gem Crafters
DESCRIPTION:Lapidary Work
URL:https://rockyreader.com/calendar/gem-crafters-100/
CATEGORIES:Gem Crafters,Members Only
END:VEVENT
BEGIN:VEVENT
DTSTART;TZID=UTC:20191204T183000
DTEND;TZID=UTC:20191204T203000
DTSTAMP:20260421T010131
CREATED:20190209T000557Z
LAST-MODIFIED:20190209T020413Z
UID:483-1575484200-1575491400@rockyreader.com
SUMMARY:Gem Crafters
DESCRIPTION:Regular Workshop and meeting of the Gemcraft group of the Toledo Gem and Rockhound Club.  Currently housed in the CRAFT CENTER BUILDING.
URL:https://rockyreader.com/calendar/gem-crafters-16/
CATEGORIES:Gem Crafters,Members Only
END:VEVENT
BEGIN:VEVENT
DTSTART;TZID=UTC:20191203T090000
DTEND;TZID=UTC:20191203T170000
DTSTAMP:20260421T010131
CREATED:20190209T000610Z
LAST-MODIFIED:20190209T020215Z
UID:516-1575363600-1575392400@rockyreader.com
SUMMARY:Extreme Beaders
DESCRIPTION:Advanced seed and intricated beaders.  Meets every Tuesday from 9AM to 5PM.
URL:https://rockyreader.com/calendar/extreme-beaders-29/
CATEGORIES:Beaders,Members Only
END:VEVENT
BEGIN:VEVENT
DTSTART;TZID=UTC:20191128T120000
DTEND;TZID=UTC:20191128T160000
DTSTAMP:20260421T010131
CREATED:20190209T000646Z
LAST-MODIFIED:20190209T020018Z
UID:608-1574942400-1574956800@rockyreader.com
SUMMARY:Gem Crafters
DESCRIPTION:Lapidary Work
URL:https://rockyreader.com/calendar/gem-crafters-99/
CATEGORIES:Gem Crafters,Members Only
END:VEVENT
BEGIN:VEVENT
DTSTART;TZID=UTC:20191127T183000
DTEND;TZID=UTC:20191127T203000
DTSTAMP:20260421T010131
CREATED:20190209T000557Z
LAST-MODIFIED:20190209T020413Z
UID:482-1574879400-1574886600@rockyreader.com
SUMMARY:Gem Crafters
DESCRIPTION:Regular Workshop and meeting of the Gemcraft group of the Toledo Gem and Rockhound Club.  Currently housed in the CRAFT CENTER BUILDING.
URL:https://rockyreader.com/calendar/gem-crafters-15/
CATEGORIES:Gem Crafters,Members Only
END:VEVENT
BEGIN:VEVENT
DTSTART;TZID=UTC:20191126T090000
DTEND;TZID=UTC:20191126T170000
DTSTAMP:20260421T010131
CREATED:20190209T000610Z
LAST-MODIFIED:20190209T020215Z
UID:515-1574758800-1574787600@rockyreader.com
SUMMARY:Extreme Beaders
DESCRIPTION:Advanced seed and intricated beaders.  Meets every Tuesday from 9AM to 5PM.
URL:https://rockyreader.com/calendar/extreme-beaders-28/
CATEGORIES:Beaders,Members Only
END:VEVENT
BEGIN:VEVENT
DTSTART;TZID=UTC:20191121T120000
DTEND;TZID=UTC:20191121T160000
DTSTAMP:20260421T010131
CREATED:20190209T000646Z
LAST-MODIFIED:20190209T020018Z
UID:607-1574337600-1574352000@rockyreader.com
SUMMARY:Gem Crafters
DESCRIPTION:Lapidary Work
URL:https://rockyreader.com/calendar/gem-crafters-98/
CATEGORIES:Gem Crafters,Members Only
END:VEVENT
BEGIN:VEVENT
DTSTART;TZID=UTC:20191119T090000
DTEND;TZID=UTC:20191119T170000
DTSTAMP:20260421T010131
CREATED:20190209T000609Z
LAST-MODIFIED:20190209T020215Z
UID:514-1574154000-1574182800@rockyreader.com
SUMMARY:Extreme Beaders
DESCRIPTION:Advanced seed and intricated beaders.  Meets every Tuesday from 9AM to 5PM.
URL:https://rockyreader.com/calendar/extreme-beaders-27/
CATEGORIES:Beaders,Members Only
END:VEVENT
BEGIN:VEVENT
DTSTART;TZID=UTC:20191114T120000
DTEND;TZID=UTC:20191114T160000
DTSTAMP:20260421T010131
CREATED:20190209T000646Z
LAST-MODIFIED:20190209T020018Z
UID:606-1573732800-1573747200@rockyreader.com
SUMMARY:Gem Crafters
DESCRIPTION:Lapidary Work
URL:https://rockyreader.com/calendar/gem-crafters-97/
CATEGORIES:Gem Crafters,Members Only
END:VEVENT
BEGIN:VEVENT
DTSTART;TZID=UTC:20191113T183000
DTEND;TZID=UTC:20191113T203000
DTSTAMP:20260421T010131
CREATED:20190209T000556Z
LAST-MODIFIED:20190209T020413Z
UID:480-1573669800-1573677000@rockyreader.com
SUMMARY:Gem Crafters
DESCRIPTION:Regular Workshop and meeting of the Gemcraft group of the Toledo Gem and Rockhound Club.  Currently housed in the CRAFT CENTER BUILDING.
URL:https://rockyreader.com/calendar/gem-crafters-14/
CATEGORIES:Gem Crafters,Members Only
END:VEVENT
BEGIN:VEVENT
DTSTART;TZID=UTC:20191112T090000
DTEND;TZID=UTC:20191112T170000
DTSTAMP:20260421T010131
CREATED:20190209T000608Z
LAST-MODIFIED:20190209T020215Z
UID:513-1573549200-1573578000@rockyreader.com
SUMMARY:Extreme Beaders
DESCRIPTION:Advanced seed and intricated beaders.  Meets every Tuesday from 9AM to 5PM.
URL:https://rockyreader.com/calendar/extreme-beaders-26/
CATEGORIES:Beaders,Members Only
END:VEVENT
BEGIN:VEVENT
DTSTART;TZID=UTC:20191107T120000
DTEND;TZID=UTC:20191107T160000
DTSTAMP:20260421T010131
CREATED:20190209T000645Z
LAST-MODIFIED:20190209T020018Z
UID:605-1573128000-1573142400@rockyreader.com
SUMMARY:Gem Crafters
DESCRIPTION:Lapidary Work
URL:https://rockyreader.com/calendar/gem-crafters-96/
CATEGORIES:Gem Crafters,Members Only
END:VEVENT
BEGIN:VEVENT
DTSTART;TZID=UTC:20191106T183000
DTEND;TZID=UTC:20191106T203000
DTSTAMP:20260421T010131
CREATED:20190209T000556Z
LAST-MODIFIED:20190209T020413Z
UID:479-1573065000-1573072200@rockyreader.com
SUMMARY:Gem Crafters
DESCRIPTION:Regular Workshop and meeting of the Gemcraft group of the Toledo Gem and Rockhound Club.  Currently housed in the CRAFT CENTER BUILDING.
URL:https://rockyreader.com/calendar/gem-crafters-13/
CATEGORIES:Gem Crafters,Members Only
END:VEVENT
BEGIN:VEVENT
DTSTART;TZID=UTC:20191105T090000
DTEND;TZID=UTC:20191105T170000
DTSTAMP:20260421T010131
CREATED:20190209T000608Z
LAST-MODIFIED:20190209T020215Z
UID:512-1572944400-1572973200@rockyreader.com
SUMMARY:Extreme Beaders
DESCRIPTION:Advanced seed and intricated beaders.  Meets every Tuesday from 9AM to 5PM.
URL:https://rockyreader.com/calendar/extreme-beaders-25/
CATEGORIES:Beaders,Members Only
END:VEVENT
BEGIN:VEVENT
DTSTART;TZID=UTC:20191031T120000
DTEND;TZID=UTC:20191031T160000
DTSTAMP:20260421T010131
CREATED:20190209T000645Z
LAST-MODIFIED:20190209T020018Z
UID:604-1572523200-1572537600@rockyreader.com
SUMMARY:Gem Crafters
DESCRIPTION:Lapidary Work
URL:https://rockyreader.com/calendar/gem-crafters-95/
CATEGORIES:Gem Crafters,Members Only
END:VEVENT
BEGIN:VEVENT
DTSTART;TZID=UTC:20191030T183000
DTEND;TZID=UTC:20191030T203000
DTSTAMP:20260421T010131
CREATED:20190209T000555Z
LAST-MODIFIED:20190209T020413Z
UID:478-1572460200-1572467400@rockyreader.com
SUMMARY:Gem Crafters
DESCRIPTION:Regular Workshop and meeting of the Gemcraft group of the Toledo Gem and Rockhound Club.  Currently housed in the CRAFT CENTER BUILDING.
URL:https://rockyreader.com/calendar/gem-crafters-12/
CATEGORIES:Gem Crafters,Members Only
END:VEVENT
BEGIN:VEVENT
DTSTART;TZID=UTC:20191029T090000
DTEND;TZID=UTC:20191029T170000
DTSTAMP:20260421T010131
CREATED:20190209T000608Z
LAST-MODIFIED:20190209T020215Z
UID:511-1572339600-1572368400@rockyreader.com
SUMMARY:Extreme Beaders
DESCRIPTION:Advanced seed and intricated beaders.  Meets every Tuesday from 9AM to 5PM.
URL:https://rockyreader.com/calendar/extreme-beaders-24/
CATEGORIES:Beaders,Members Only
END:VEVENT
BEGIN:VEVENT
DTSTART;TZID=UTC:20191024T120000
DTEND;TZID=UTC:20191024T160000
DTSTAMP:20260421T010131
CREATED:20190209T000644Z
LAST-MODIFIED:20190209T020018Z
UID:603-1571918400-1571932800@rockyreader.com
SUMMARY:Gem Crafters
DESCRIPTION:Lapidary Work
URL:https://rockyreader.com/calendar/gem-crafters-94/
CATEGORIES:Gem Crafters,Members Only
END:VEVENT
BEGIN:VEVENT
DTSTART;TZID=UTC:20191023T183000
DTEND;TZID=UTC:20191023T203000
DTSTAMP:20260421T010131
CREATED:20190209T000555Z
LAST-MODIFIED:20190209T020413Z
UID:477-1571855400-1571862600@rockyreader.com
SUMMARY:Gem Crafters
DESCRIPTION:Regular Workshop and meeting of the Gemcraft group of the Toledo Gem and Rockhound Club.  Currently housed in the CRAFT CENTER BUILDING.
URL:https://rockyreader.com/calendar/gem-crafters-11/
CATEGORIES:Gem Crafters,Members Only
END:VEVENT
END:VCALENDAR