BEGIN:VCALENDAR
VERSION:2.0
PRODID:-//Toledo Gem &amp; Rockhound Club - ECPv6.15.15//NONSGML v1.0//EN
CALSCALE:GREGORIAN
METHOD:PUBLISH
X-ORIGINAL-URL:https://rockyreader.com
X-WR-CALDESC:Events for Toledo Gem &amp; Rockhound Club
REFRESH-INTERVAL;VALUE=DURATION:PT1H
X-Robots-Tag:noindex
X-PUBLISHED-TTL:PT1H
BEGIN:VTIMEZONE
TZID:UTC
BEGIN:STANDARD
TZOFFSETFROM:+0000
TZOFFSETTO:+0000
TZNAME:UTC
DTSTART:20180101T000000
END:STANDARD
END:VTIMEZONE
BEGIN:VEVENT
DTSTART;TZID=UTC:20191022T090000
DTEND;TZID=UTC:20191022T170000
DTSTAMP:20260421T205157
CREATED:20190209T000608Z
LAST-MODIFIED:20190209T020215Z
UID:510-1571734800-1571763600@rockyreader.com
SUMMARY:Extreme Beaders
DESCRIPTION:Advanced seed and intricated beaders.  Meets every Tuesday from 9AM to 5PM.
URL:https://rockyreader.com/calendar/extreme-beaders-23/
CATEGORIES:Beaders,Members Only
END:VEVENT
BEGIN:VEVENT
DTSTART;TZID=UTC:20191017T120000
DTEND;TZID=UTC:20191017T160000
DTSTAMP:20260421T205157
CREATED:20190209T000644Z
LAST-MODIFIED:20190209T020018Z
UID:602-1571313600-1571328000@rockyreader.com
SUMMARY:Gem Crafters
DESCRIPTION:Lapidary Work
URL:https://rockyreader.com/calendar/gem-crafters-93/
CATEGORIES:Gem Crafters,Members Only
END:VEVENT
BEGIN:VEVENT
DTSTART;TZID=UTC:20191015T090000
DTEND;TZID=UTC:20191015T170000
DTSTAMP:20260421T205157
CREATED:20190209T000607Z
LAST-MODIFIED:20190209T020215Z
UID:509-1571130000-1571158800@rockyreader.com
SUMMARY:Extreme Beaders
DESCRIPTION:Advanced seed and intricated beaders.  Meets every Tuesday from 9AM to 5PM.
URL:https://rockyreader.com/calendar/extreme-beaders-22/
CATEGORIES:Beaders,Members Only
END:VEVENT
BEGIN:VEVENT
DTSTART;TZID=UTC:20191010T120000
DTEND;TZID=UTC:20191010T160000
DTSTAMP:20260421T205157
CREATED:20190209T000643Z
LAST-MODIFIED:20190209T020018Z
UID:601-1570708800-1570723200@rockyreader.com
SUMMARY:Gem Crafters
DESCRIPTION:Lapidary Work
URL:https://rockyreader.com/calendar/gem-crafters-92/
CATEGORIES:Gem Crafters,Members Only
END:VEVENT
BEGIN:VEVENT
DTSTART;TZID=UTC:20191009T183000
DTEND;TZID=UTC:20191009T203000
DTSTAMP:20260421T205157
CREATED:20190209T000555Z
LAST-MODIFIED:20190209T020413Z
UID:475-1570645800-1570653000@rockyreader.com
SUMMARY:Gem Crafters
DESCRIPTION:Regular Workshop and meeting of the Gemcraft group of the Toledo Gem and Rockhound Club.  Currently housed in the CRAFT CENTER BUILDING.
URL:https://rockyreader.com/calendar/gem-crafters-10/
CATEGORIES:Gem Crafters,Members Only
END:VEVENT
BEGIN:VEVENT
DTSTART;TZID=UTC:20191008T090000
DTEND;TZID=UTC:20191008T170000
DTSTAMP:20260421T205157
CREATED:20190209T000607Z
LAST-MODIFIED:20190209T020215Z
UID:508-1570525200-1570554000@rockyreader.com
SUMMARY:Extreme Beaders
DESCRIPTION:Advanced seed and intricated beaders.  Meets every Tuesday from 9AM to 5PM.
URL:https://rockyreader.com/calendar/extreme-beaders-21/
CATEGORIES:Beaders,Members Only
END:VEVENT
BEGIN:VEVENT
DTSTART;TZID=UTC:20191003T120000
DTEND;TZID=UTC:20191003T160000
DTSTAMP:20260421T205157
CREATED:20190209T000643Z
LAST-MODIFIED:20190209T020018Z
UID:600-1570104000-1570118400@rockyreader.com
SUMMARY:Gem Crafters
DESCRIPTION:Lapidary Work
URL:https://rockyreader.com/calendar/gem-crafters-91/
CATEGORIES:Gem Crafters,Members Only
END:VEVENT
BEGIN:VEVENT
DTSTART;TZID=UTC:20191002T183000
DTEND;TZID=UTC:20191002T203000
DTSTAMP:20260421T205157
CREATED:20190209T000555Z
LAST-MODIFIED:20190209T020413Z
UID:474-1570041000-1570048200@rockyreader.com
SUMMARY:Gem Crafters
DESCRIPTION:Regular Workshop and meeting of the Gemcraft group of the Toledo Gem and Rockhound Club.  Currently housed in the CRAFT CENTER BUILDING.
URL:https://rockyreader.com/calendar/gem-crafters-9/
CATEGORIES:Gem Crafters,Members Only
END:VEVENT
BEGIN:VEVENT
DTSTART;TZID=UTC:20191001T090000
DTEND;TZID=UTC:20191001T170000
DTSTAMP:20260421T205157
CREATED:20190209T000606Z
LAST-MODIFIED:20190209T020215Z
UID:506-1569920400-1569949200@rockyreader.com
SUMMARY:Extreme Beaders
DESCRIPTION:Advanced seed and intricated beaders.  Meets every Tuesday from 9AM to 5PM.
URL:https://rockyreader.com/calendar/extreme-beaders-20/
CATEGORIES:Beaders,Members Only
END:VEVENT
BEGIN:VEVENT
DTSTART;TZID=UTC:20190926T120000
DTEND;TZID=UTC:20190926T160000
DTSTAMP:20260421T205157
CREATED:20190209T000643Z
LAST-MODIFIED:20190209T020018Z
UID:599-1569499200-1569513600@rockyreader.com
SUMMARY:Gem Crafters
DESCRIPTION:Lapidary Work
URL:https://rockyreader.com/calendar/gem-crafters-90/
CATEGORIES:Gem Crafters,Members Only
END:VEVENT
BEGIN:VEVENT
DTSTART;TZID=UTC:20190925T183000
DTEND;TZID=UTC:20190925T203000
DTSTAMP:20260421T205157
CREATED:20190209T000553Z
LAST-MODIFIED:20190209T020413Z
UID:473-1569436200-1569443400@rockyreader.com
SUMMARY:Gem Crafters
DESCRIPTION:Regular Workshop and meeting of the Gemcraft group of the Toledo Gem and Rockhound Club.  Currently housed in the CRAFT CENTER BUILDING.
URL:https://rockyreader.com/calendar/gem-crafters-8/
CATEGORIES:Gem Crafters,Members Only
END:VEVENT
BEGIN:VEVENT
DTSTART;TZID=UTC:20190924T090000
DTEND;TZID=UTC:20190924T170000
DTSTAMP:20260421T205157
CREATED:20190209T000606Z
LAST-MODIFIED:20190209T020215Z
UID:505-1569315600-1569344400@rockyreader.com
SUMMARY:Extreme Beaders
DESCRIPTION:Advanced seed and intricated beaders.  Meets every Tuesday from 9AM to 5PM.
URL:https://rockyreader.com/calendar/extreme-beaders-19/
CATEGORIES:Beaders,Members Only
END:VEVENT
BEGIN:VEVENT
DTSTART;TZID=UTC:20190919T120000
DTEND;TZID=UTC:20190919T160000
DTSTAMP:20260421T205157
CREATED:20190209T000642Z
LAST-MODIFIED:20190209T020018Z
UID:598-1568894400-1568908800@rockyreader.com
SUMMARY:Gem Crafters
DESCRIPTION:Lapidary Work
URL:https://rockyreader.com/calendar/gem-crafters-89/
CATEGORIES:Gem Crafters,Members Only
END:VEVENT
BEGIN:VEVENT
DTSTART;TZID=UTC:20190917T090000
DTEND;TZID=UTC:20190917T170000
DTSTAMP:20260421T205157
CREATED:20190209T000606Z
LAST-MODIFIED:20190209T020215Z
UID:504-1568710800-1568739600@rockyreader.com
SUMMARY:Extreme Beaders
DESCRIPTION:Advanced seed and intricated beaders.  Meets every Tuesday from 9AM to 5PM.
URL:https://rockyreader.com/calendar/extreme-beaders-18/
CATEGORIES:Beaders,Members Only
END:VEVENT
BEGIN:VEVENT
DTSTART;TZID=UTC:20190912T120000
DTEND;TZID=UTC:20190912T160000
DTSTAMP:20260421T205157
CREATED:20190209T000642Z
LAST-MODIFIED:20190209T020018Z
UID:597-1568289600-1568304000@rockyreader.com
SUMMARY:Gem Crafters
DESCRIPTION:Lapidary Work
URL:https://rockyreader.com/calendar/gem-crafters-88/
CATEGORIES:Gem Crafters,Members Only
END:VEVENT
BEGIN:VEVENT
DTSTART;TZID=UTC:20190911T183000
DTEND;TZID=UTC:20190911T203000
DTSTAMP:20260421T205157
CREATED:20190209T000553Z
LAST-MODIFIED:20190209T020413Z
UID:471-1568226600-1568233800@rockyreader.com
SUMMARY:Gem Crafters
DESCRIPTION:Regular Workshop and meeting of the Gemcraft group of the Toledo Gem and Rockhound Club.  Currently housed in the CRAFT CENTER BUILDING.
URL:https://rockyreader.com/calendar/gem-crafters-7/
CATEGORIES:Gem Crafters,Members Only
END:VEVENT
BEGIN:VEVENT
DTSTART;TZID=UTC:20190910T090000
DTEND;TZID=UTC:20190910T170000
DTSTAMP:20260421T205157
CREATED:20190209T000604Z
LAST-MODIFIED:20190209T020215Z
UID:503-1568106000-1568134800@rockyreader.com
SUMMARY:Extreme Beaders
DESCRIPTION:Advanced seed and intricated beaders.  Meets every Tuesday from 9AM to 5PM.
URL:https://rockyreader.com/calendar/extreme-beaders-17/
CATEGORIES:Beaders,Members Only
END:VEVENT
BEGIN:VEVENT
DTSTART;TZID=UTC:20190905T120000
DTEND;TZID=UTC:20190905T160000
DTSTAMP:20260421T205157
CREATED:20190209T000642Z
LAST-MODIFIED:20190209T020018Z
UID:596-1567684800-1567699200@rockyreader.com
SUMMARY:Gem Crafters
DESCRIPTION:Lapidary Work
URL:https://rockyreader.com/calendar/gem-crafters-87/
CATEGORIES:Gem Crafters,Members Only
END:VEVENT
BEGIN:VEVENT
DTSTART;TZID=UTC:20190904T183000
DTEND;TZID=UTC:20190904T203000
DTSTAMP:20260421T205157
CREATED:20190209T000553Z
LAST-MODIFIED:20190209T020413Z
UID:470-1567621800-1567629000@rockyreader.com
SUMMARY:Gem Crafters
DESCRIPTION:Regular Workshop and meeting of the Gemcraft group of the Toledo Gem and Rockhound Club.  Currently housed in the CRAFT CENTER BUILDING.
URL:https://rockyreader.com/calendar/gem-crafters-6/
CATEGORIES:Gem Crafters,Members Only
END:VEVENT
BEGIN:VEVENT
DTSTART;TZID=UTC:20190903T090000
DTEND;TZID=UTC:20190903T170000
DTSTAMP:20260421T205157
CREATED:20190209T000604Z
LAST-MODIFIED:20190209T020233Z
UID:502-1567501200-1567530000@rockyreader.com
SUMMARY:Extreme Beaders
DESCRIPTION:Advanced seed and intricated beaders.  Meets every Tuesday from 9AM to 5PM.
URL:https://rockyreader.com/calendar/extreme-beaders-16/
CATEGORIES:Beaders,Members Only
END:VEVENT
BEGIN:VEVENT
DTSTART;TZID=UTC:20190829T120000
DTEND;TZID=UTC:20190829T160000
DTSTAMP:20260421T205157
CREATED:20190209T000642Z
LAST-MODIFIED:20190209T020018Z
UID:595-1567080000-1567094400@rockyreader.com
SUMMARY:Gem Crafters
DESCRIPTION:Lapidary Work
URL:https://rockyreader.com/calendar/gem-crafters-86/
CATEGORIES:Gem Crafters,Members Only
END:VEVENT
BEGIN:VEVENT
DTSTART;TZID=UTC:20190828T183000
DTEND;TZID=UTC:20190828T203000
DTSTAMP:20260421T205157
CREATED:20190209T000552Z
LAST-MODIFIED:20190209T020413Z
UID:469-1567017000-1567024200@rockyreader.com
SUMMARY:Gem Crafters
DESCRIPTION:Regular Workshop and meeting of the Gemcraft group of the Toledo Gem and Rockhound Club.  Currently housed in the CRAFT CENTER BUILDING.
URL:https://rockyreader.com/calendar/gem-crafters-5/
CATEGORIES:Gem Crafters,Members Only
END:VEVENT
BEGIN:VEVENT
DTSTART;TZID=UTC:20190827T090000
DTEND;TZID=UTC:20190827T170000
DTSTAMP:20260421T205157
CREATED:20190209T000604Z
LAST-MODIFIED:20190209T020233Z
UID:501-1566896400-1566925200@rockyreader.com
SUMMARY:Extreme Beaders
DESCRIPTION:Advanced seed and intricated beaders.  Meets every Tuesday from 9AM to 5PM.
URL:https://rockyreader.com/calendar/extreme-beaders-15/
CATEGORIES:Beaders,Members Only
END:VEVENT
BEGIN:VEVENT
DTSTART;TZID=UTC:20190822T120000
DTEND;TZID=UTC:20190822T160000
DTSTAMP:20260421T205157
CREATED:20190209T000641Z
LAST-MODIFIED:20190209T020018Z
UID:594-1566475200-1566489600@rockyreader.com
SUMMARY:Gem Crafters
DESCRIPTION:Lapidary Work
URL:https://rockyreader.com/calendar/gem-crafters-85/
CATEGORIES:Gem Crafters,Members Only
END:VEVENT
BEGIN:VEVENT
DTSTART;TZID=UTC:20190820T090000
DTEND;TZID=UTC:20190820T170000
DTSTAMP:20260421T205157
CREATED:20190209T000604Z
LAST-MODIFIED:20190209T020233Z
UID:500-1566291600-1566320400@rockyreader.com
SUMMARY:Extreme Beaders
DESCRIPTION:Advanced seed and intricated beaders.  Meets every Tuesday from 9AM to 5PM.
URL:https://rockyreader.com/calendar/extreme-beaders-14/
CATEGORIES:Beaders,Members Only
END:VEVENT
BEGIN:VEVENT
DTSTART;TZID=UTC:20190815T120000
DTEND;TZID=UTC:20190815T160000
DTSTAMP:20260421T205157
CREATED:20190209T000640Z
LAST-MODIFIED:20190209T020018Z
UID:593-1565870400-1565884800@rockyreader.com
SUMMARY:Gem Crafters
DESCRIPTION:Lapidary Work
URL:https://rockyreader.com/calendar/gem-crafters-84/
CATEGORIES:Gem Crafters,Members Only
END:VEVENT
BEGIN:VEVENT
DTSTART;TZID=UTC:20190814T183000
DTEND;TZID=UTC:20190814T203000
DTSTAMP:20260421T205157
CREATED:20190209T000550Z
LAST-MODIFIED:20190209T020413Z
UID:467-1565807400-1565814600@rockyreader.com
SUMMARY:Gem Crafters
DESCRIPTION:Regular Workshop and meeting of the Gemcraft group of the Toledo Gem and Rockhound Club.  Currently housed in the CRAFT CENTER BUILDING.
URL:https://rockyreader.com/calendar/gem-crafters-4/
CATEGORIES:Gem Crafters,Members Only
END:VEVENT
BEGIN:VEVENT
DTSTART;TZID=UTC:20190813T090000
DTEND;TZID=UTC:20190813T170000
DTSTAMP:20260421T205157
CREATED:20190209T000604Z
LAST-MODIFIED:20190209T020233Z
UID:499-1565686800-1565715600@rockyreader.com
SUMMARY:Extreme Beaders
DESCRIPTION:Advanced seed and intricated beaders.  Meets every Tuesday from 9AM to 5PM.
URL:https://rockyreader.com/calendar/extreme-beaders-13/
CATEGORIES:Beaders,Members Only
END:VEVENT
BEGIN:VEVENT
DTSTART;TZID=UTC:20190808T120000
DTEND;TZID=UTC:20190808T160000
DTSTAMP:20260421T205157
CREATED:20190209T000640Z
LAST-MODIFIED:20190209T020314Z
UID:592-1565265600-1565280000@rockyreader.com
SUMMARY:Gem Crafters
DESCRIPTION:Lapidary Work
URL:https://rockyreader.com/calendar/gem-crafters-83/
CATEGORIES:Gem Crafters,Members Only
END:VEVENT
BEGIN:VEVENT
DTSTART;TZID=UTC:20190807T183000
DTEND;TZID=UTC:20190807T203000
DTSTAMP:20260421T205157
CREATED:20190209T000550Z
LAST-MODIFIED:20190209T020433Z
UID:466-1565202600-1565209800@rockyreader.com
SUMMARY:Gem Crafters
DESCRIPTION:Regular Workshop and meeting of the Gemcraft group of the Toledo Gem and Rockhound Club.  Currently housed in the CRAFT CENTER BUILDING.
URL:https://rockyreader.com/calendar/gem-crafters-3/
CATEGORIES:Gem Crafters,Members Only
END:VEVENT
END:VCALENDAR