BEGIN:VCALENDAR
VERSION:2.0
PRODID:-//Toledo Gem &amp; Rockhound Club - ECPv6.15.15//NONSGML v1.0//EN
CALSCALE:GREGORIAN
METHOD:PUBLISH
X-WR-CALNAME:Toledo Gem &amp; Rockhound Club
X-ORIGINAL-URL:https://rockyreader.com
X-WR-CALDESC:Events for Toledo Gem &amp; Rockhound Club
REFRESH-INTERVAL;VALUE=DURATION:PT1H
X-Robots-Tag:noindex
X-PUBLISHED-TTL:PT1H
BEGIN:VTIMEZONE
TZID:America/Detroit
BEGIN:DAYLIGHT
TZOFFSETFROM:-0500
TZOFFSETTO:-0400
TZNAME:EDT
DTSTART:20200308T070000
END:DAYLIGHT
BEGIN:STANDARD
TZOFFSETFROM:-0400
TZOFFSETTO:-0500
TZNAME:EST
DTSTART:20201101T060000
END:STANDARD
BEGIN:DAYLIGHT
TZOFFSETFROM:-0500
TZOFFSETTO:-0400
TZNAME:EDT
DTSTART:20210314T070000
END:DAYLIGHT
BEGIN:STANDARD
TZOFFSETFROM:-0400
TZOFFSETTO:-0500
TZNAME:EST
DTSTART:20211107T060000
END:STANDARD
BEGIN:DAYLIGHT
TZOFFSETFROM:-0500
TZOFFSETTO:-0400
TZNAME:EDT
DTSTART:20220313T070000
END:DAYLIGHT
BEGIN:STANDARD
TZOFFSETFROM:-0400
TZOFFSETTO:-0500
TZNAME:EST
DTSTART:20221106T060000
END:STANDARD
END:VTIMEZONE
BEGIN:VTIMEZONE
TZID:UTC
BEGIN:STANDARD
TZOFFSETFROM:+0000
TZOFFSETTO:+0000
TZNAME:UTC
DTSTART:20170101T000000
END:STANDARD
END:VTIMEZONE
BEGIN:VEVENT
DTSTART;TZID=America/Detroit:20210915T190000
DTEND;TZID=America/Detroit:20210915T203000
DTSTAMP:20260420T000638
CREATED:20210908T001010Z
LAST-MODIFIED:20210908T001010Z
UID:2183-1631732400-1631737800@rockyreader.com
SUMMARY:Monthly Club Meeting
DESCRIPTION:Guests are welcome! We are now meeting at the new Craft Center 2453 Tremainsville Rd\, Unit B
URL:https://rockyreader.com/calendar/monthly-club-meeting-9/
LOCATION:Craft Center\, 2453 Tremainsville Rd Unit B\, Toledo\, OH\, 43613\, United States
CATEGORIES:TG&RC Meeting
END:VEVENT
BEGIN:VEVENT
DTSTART;TZID=UTC:20200318T190000
DTEND;TZID=UTC:20200318T210000
DTSTAMP:20260420T000638
CREATED:20200308T214031Z
LAST-MODIFIED:20200308T214031Z
UID:1415-1584558000-1584565200@rockyreader.com
SUMMARY:Club Meeting at Common Space Center for Creativity
DESCRIPTION:
URL:https://rockyreader.com/calendar/club-meeting-at-common-space-center-for-creativity/
LOCATION:Common Space Center for Creativity\, 1700 N Reynolds Rd\, Toledo\, OH\, United States
CATEGORIES:Public,TG&RC Meeting
END:VEVENT
BEGIN:VEVENT
DTSTART;TZID=UTC:20191218T190000
DTEND;TZID=UTC:20191218T210000
DTSTAMP:20260420T000638
CREATED:20190209T000559Z
LAST-MODIFIED:20190209T023111Z
UID:485-1576695600-1576702800@rockyreader.com
SUMMARY:TG&RC Meeting
DESCRIPTION:Regularly Scheduled meeting of the Toledo Gem and Rockhound Club. Currently held in the Artist Club Bulding at the Toledo Botanical Gardens.
URL:https://rockyreader.com/calendar/tgrc-meeting-5/
LOCATION:OH
CATEGORIES:Public,TG&RC Meeting
END:VEVENT
BEGIN:VEVENT
DTSTART;TZID=UTC:20191120T190000
DTEND;TZID=UTC:20191120T210000
DTSTAMP:20260420T000638
CREATED:20190209T000557Z
LAST-MODIFIED:20190209T023111Z
UID:481-1574276400-1574283600@rockyreader.com
SUMMARY:TG&RC Meeting
DESCRIPTION:Regularly Scheduled meeting of the Toledo Gem and Rockhound Club. Currently held in the Artist Club Bulding at the Toledo Botanical Gardens.
URL:https://rockyreader.com/calendar/tgrc-meeting-4/
LOCATION:OH
CATEGORIES:Public,TG&RC Meeting
END:VEVENT
BEGIN:VEVENT
DTSTART;TZID=UTC:20191016T190000
DTEND;TZID=UTC:20191016T210000
DTSTAMP:20260420T000638
CREATED:20190209T000555Z
LAST-MODIFIED:20190209T023111Z
UID:476-1571252400-1571259600@rockyreader.com
SUMMARY:TG&RC Meeting
DESCRIPTION:Regularly Scheduled meeting of the Toledo Gem and Rockhound Club. Currently held in the Artist Club Bulding at the Toledo Botanical Gardens.
URL:https://rockyreader.com/calendar/tgrc-meeting-3/
LOCATION:OH
CATEGORIES:Public,TG&RC Meeting
END:VEVENT
BEGIN:VEVENT
DTSTART;TZID=UTC:20190918T190000
DTEND;TZID=UTC:20190918T210000
DTSTAMP:20260420T000638
CREATED:20190209T000553Z
LAST-MODIFIED:20190209T023112Z
UID:472-1568833200-1568840400@rockyreader.com
SUMMARY:TG&RC Meeting
DESCRIPTION:Regularly Scheduled meeting of the Toledo Gem and Rockhound Club. Currently held in the Artist Club Bulding at the Toledo Botanical Gardens.
URL:https://rockyreader.com/calendar/tgrc-meeting-2/
LOCATION:OH
CATEGORIES:Public,TG&RC Meeting
END:VEVENT
BEGIN:VEVENT
DTSTART;TZID=UTC:20190821T190000
DTEND;TZID=UTC:20190821T210000
DTSTAMP:20260420T000638
CREATED:20190209T000550Z
LAST-MODIFIED:20190209T023112Z
UID:468-1566414000-1566421200@rockyreader.com
SUMMARY:TG&RC Meeting
DESCRIPTION:Regularly Scheduled meeting of the Toledo Gem and Rockhound Club. Currently held in the Artist Club Bulding at the Toledo Botanical Gardens.
URL:https://rockyreader.com/calendar/tgrc-meeting/
LOCATION:OH
CATEGORIES:Public,TG&RC Meeting
END:VEVENT
BEGIN:VEVENT
DTSTART;TZID=UTC:20190717T190000
DTEND;TZID=UTC:20190717T210000
DTSTAMP:20260420T000638
CREATED:20190209T000624Z
LAST-MODIFIED:20190209T023111Z
UID:556-1563390000-1563397200@rockyreader.com
SUMMARY:TG&RC Meeting
DESCRIPTION:Regularly Scheduled meeting of the Toledo Gem and Rockhound Club. Currently held in the Artist Club Bulding at the Toledo Botanical Gardens.
URL:https://rockyreader.com/calendar/tgrc-meeting-13/
LOCATION:OH
CATEGORIES:Public,TG&RC Meeting
END:VEVENT
BEGIN:VEVENT
DTSTART;TZID=UTC:20190619T190000
DTEND;TZID=UTC:20190619T210000
DTSTAMP:20260420T000638
CREATED:20190209T000623Z
LAST-MODIFIED:20190209T023111Z
UID:552-1560970800-1560978000@rockyreader.com
SUMMARY:TG&RC Meeting
DESCRIPTION:Regularly Scheduled meeting of the Toledo Gem and Rockhound Club. Currently held in the Artist Club Bulding at the Toledo Botanical Gardens.
URL:https://rockyreader.com/calendar/tgrc-meeting-12/
LOCATION:OH
CATEGORIES:Public,TG&RC Meeting
END:VEVENT
BEGIN:VEVENT
DTSTART;TZID=UTC:20190515T190000
DTEND;TZID=UTC:20190515T210000
DTSTAMP:20260420T000638
CREATED:20190209T000621Z
LAST-MODIFIED:20190209T023111Z
UID:547-1557946800-1557954000@rockyreader.com
SUMMARY:TG&RC Meeting
DESCRIPTION:Regularly Scheduled meeting of the Toledo Gem and Rockhound Club. Currently held in the Artist Club Bulding at the Toledo Botanical Gardens.
URL:https://rockyreader.com/calendar/tgrc-meeting-11/
LOCATION:OH
CATEGORIES:Public,TG&RC Meeting
END:VEVENT
BEGIN:VEVENT
DTSTART;TZID=UTC:20190417T190000
DTEND;TZID=UTC:20190417T210000
DTSTAMP:20260420T000638
CREATED:20190209T000619Z
LAST-MODIFIED:20190209T023111Z
UID:543-1555527600-1555534800@rockyreader.com
SUMMARY:TG&RC Meeting
DESCRIPTION:Regularly Scheduled meeting of the Toledo Gem and Rockhound Club. Currently held in the Artist Club Bulding at the Toledo Botanical Gardens.
URL:https://rockyreader.com/calendar/tgrc-meeting-10/
LOCATION:OH
CATEGORIES:Public,TG&RC Meeting
END:VEVENT
BEGIN:VEVENT
DTSTART;TZID=UTC:20190320T190000
DTEND;TZID=UTC:20190320T210000
DTSTAMP:20260420T000638
CREATED:20190209T000619Z
LAST-MODIFIED:20190209T023111Z
UID:539-1553108400-1553115600@rockyreader.com
SUMMARY:TG&RC Meeting
DESCRIPTION:Regularly Scheduled meeting of the Toledo Gem and Rockhound Club. Currently held in the Artist Club Bulding at the Toledo Botanical Gardens.
URL:https://rockyreader.com/calendar/tgrc-meeting-9/
LOCATION:OH
CATEGORIES:Public,TG&RC Meeting
END:VEVENT
BEGIN:VEVENT
DTSTART;TZID=UTC:20190220T190000
DTEND;TZID=UTC:20190220T210000
DTSTAMP:20260420T000638
CREATED:20190209T000617Z
LAST-MODIFIED:20190209T023111Z
UID:535-1550689200-1550696400@rockyreader.com
SUMMARY:TG&RC Meeting
DESCRIPTION:Regularly Scheduled meeting of the Toledo Gem and Rockhound Club. Currently held in the Artist Club Bulding at the Toledo Botanical Gardens.
URL:https://rockyreader.com/calendar/tgrc-meeting-8/
LOCATION:OH
CATEGORIES:Public,TG&RC Meeting
END:VEVENT
BEGIN:VEVENT
DTSTART;TZID=UTC:20190116T190000
DTEND;TZID=UTC:20190116T210000
DTSTAMP:20260420T000638
CREATED:20190209T000615Z
LAST-MODIFIED:20190209T023111Z
UID:530-1547665200-1547672400@rockyreader.com
SUMMARY:TG&RC Meeting
DESCRIPTION:Regularly Scheduled meeting of the Toledo Gem and Rockhound Club. Currently held in the Artist Club Bulding at the Toledo Botanical Gardens.
URL:https://rockyreader.com/calendar/tgrc-meeting-7/
LOCATION:OH
CATEGORIES:Public,TG&RC Meeting
END:VEVENT
BEGIN:VEVENT
DTSTART;TZID=UTC:20181219T190000
DTEND;TZID=UTC:20181219T210000
DTSTAMP:20260420T000638
CREATED:20190209T000613Z
LAST-MODIFIED:20190209T023111Z
UID:526-1545246000-1545253200@rockyreader.com
SUMMARY:TG&RC Meeting
DESCRIPTION:Regularly Scheduled meeting of the Toledo Gem and Rockhound Club. Currently held in the Artist Club Bulding at the Toledo Botanical Gardens.
URL:https://rockyreader.com/calendar/tgrc-meeting-6/
LOCATION:OH
CATEGORIES:Public,TG&RC Meeting
END:VEVENT
END:VCALENDAR