BEGIN:VCALENDAR
VERSION:2.0
PRODID:-//Toledo Gem &amp; Rockhound Club - ECPv6.15.15//NONSGML v1.0//EN
CALSCALE:GREGORIAN
METHOD:PUBLISH
X-WR-CALNAME:Toledo Gem &amp; Rockhound Club
X-ORIGINAL-URL:https://rockyreader.com
X-WR-CALDESC:Events for Toledo Gem &amp; Rockhound Club
REFRESH-INTERVAL;VALUE=DURATION:PT1H
X-Robots-Tag:noindex
X-PUBLISHED-TTL:PT1H
BEGIN:VTIMEZONE
TZID:America/Detroit
BEGIN:DAYLIGHT
TZOFFSETFROM:-0500
TZOFFSETTO:-0400
TZNAME:EDT
DTSTART:20240310T070000
END:DAYLIGHT
BEGIN:STANDARD
TZOFFSETFROM:-0400
TZOFFSETTO:-0500
TZNAME:EST
DTSTART:20241103T060000
END:STANDARD
BEGIN:DAYLIGHT
TZOFFSETFROM:-0500
TZOFFSETTO:-0400
TZNAME:EDT
DTSTART:20250309T070000
END:DAYLIGHT
BEGIN:STANDARD
TZOFFSETFROM:-0400
TZOFFSETTO:-0500
TZNAME:EST
DTSTART:20251102T060000
END:STANDARD
BEGIN:DAYLIGHT
TZOFFSETFROM:-0500
TZOFFSETTO:-0400
TZNAME:EDT
DTSTART:20260308T070000
END:DAYLIGHT
BEGIN:STANDARD
TZOFFSETFROM:-0400
TZOFFSETTO:-0500
TZNAME:EST
DTSTART:20261101T060000
END:STANDARD
END:VTIMEZONE
BEGIN:VEVENT
DTSTART;TZID=America/Detroit:20251227T100000
DTEND;TZID=America/Detroit:20251227T150000
DTSTAMP:20260419T124856
CREATED:20251102T052946Z
LAST-MODIFIED:20251102T052946Z
UID:6788-1766829600-1766847600@rockyreader.com
SUMMARY:Gem Crafters
DESCRIPTION:$2/hour\nModerator – Sherm
URL:https://rockyreader.com/calendar/gem-crafters-444/
LOCATION:Craft Center\, 2453 Tremainsville Rd Unit B\, Toledo\, OH\, 43613\, United States
CATEGORIES:Gem Crafters
END:VEVENT
BEGIN:VEVENT
DTSTART;TZID=America/Detroit:20251223T150000
DTEND;TZID=America/Detroit:20251223T190000
DTSTAMP:20260419T124856
CREATED:20251102T051642Z
LAST-MODIFIED:20251102T051642Z
UID:6765-1766502000-1766516400@rockyreader.com
SUMMARY:Metal Crafters
DESCRIPTION:$2/hour\nModerator – Mike
URL:https://rockyreader.com/calendar/metal-crafters-471/
LOCATION:Craft Center\, 2453 Tremainsville Rd Unit B\, Toledo\, OH\, 43613\, United States
CATEGORIES:Metal Crafters
END:VEVENT
BEGIN:VEVENT
DTSTART;TZID=America/Detroit:20251223T100000
DTEND;TZID=America/Detroit:20251223T140000
DTSTAMP:20260419T124856
CREATED:20251102T031553Z
LAST-MODIFIED:20251102T031553Z
UID:6744-1766484000-1766498400@rockyreader.com
SUMMARY:Extreme Beaders
DESCRIPTION:Meets every Tuesday at the Craft Center.\nIndividuals meet to work on their own projects.
URL:https://rockyreader.com/calendar/extreme-beaders-245/
LOCATION:Craft Center\, 2453 Tremainsville Rd Unit B\, Toledo\, OH\, 43613\, United States
CATEGORIES:Extreme Beaders
END:VEVENT
BEGIN:VEVENT
DTSTART;TZID=America/Detroit:20251220T100000
DTEND;TZID=America/Detroit:20251220T150000
DTSTAMP:20260419T124856
CREATED:20251102T052923Z
LAST-MODIFIED:20251102T052923Z
UID:6786-1766224800-1766242800@rockyreader.com
SUMMARY:Gem Crafters
DESCRIPTION:$2/hour\nModerator – Sherm
URL:https://rockyreader.com/calendar/gem-crafters-443/
LOCATION:Craft Center\, 2453 Tremainsville Rd Unit B\, Toledo\, OH\, 43613\, United States
CATEGORIES:Gem Crafters
END:VEVENT
BEGIN:VEVENT
DTSTART;TZID=America/Detroit:20251218T110000
DTEND;TZID=America/Detroit:20251218T150000
DTSTAMP:20260419T124856
CREATED:20251102T030327Z
LAST-MODIFIED:20251102T030327Z
UID:6730-1766055600-1766070000@rockyreader.com
SUMMARY:Gem Crafters
DESCRIPTION:$2/hour\nModerator – Michelle
URL:https://rockyreader.com/calendar/gem-crafters-431/
LOCATION:Craft Center\, 2453 Tremainsville Rd Unit B\, Toledo\, OH\, 43613\, United States
CATEGORIES:Gem Crafters
END:VEVENT
BEGIN:VEVENT
DTSTART;TZID=America/Detroit:20251217T190000
DTEND;TZID=America/Detroit:20251217T203000
DTSTAMP:20260419T124856
CREATED:20251102T031223Z
LAST-MODIFIED:20251102T031223Z
UID:6739-1765998000-1766003400@rockyreader.com
SUMMARY:Monthly Club Meeting & Christmas Party
DESCRIPTION:Starting time: 7:00 p.m. \nMeeting at the Craft Center 2453 Tremainsville Rd\, Unit B 6:00 p.m. \n  \n  \n  \n  \n  \n  \n 
URL:https://rockyreader.com/calendar/monthly-club-meeting-christmas-party-2/
LOCATION:Craft Center\, 2453 Tremainsville Rd Unit B\, Toledo\, OH\, 43613\, United States
CATEGORIES:TG&RC Meeting
END:VEVENT
BEGIN:VEVENT
DTSTART;TZID=America/Detroit:20251216T150000
DTEND;TZID=America/Detroit:20251216T190000
DTSTAMP:20260419T124856
CREATED:20251102T051602Z
LAST-MODIFIED:20251102T051602Z
UID:6766-1765897200-1765911600@rockyreader.com
SUMMARY:Metal Crafters
DESCRIPTION:$2/hour\nModerator – Mike
URL:https://rockyreader.com/calendar/metal-crafters-470/
LOCATION:Craft Center\, 2453 Tremainsville Rd Unit B\, Toledo\, OH\, 43613\, United States
CATEGORIES:Metal Crafters
END:VEVENT
BEGIN:VEVENT
DTSTART;TZID=America/Detroit:20251216T100000
DTEND;TZID=America/Detroit:20251216T140000
DTSTAMP:20260419T124856
CREATED:20251102T031509Z
LAST-MODIFIED:20251102T031509Z
UID:6746-1765879200-1765893600@rockyreader.com
SUMMARY:Extreme Beaders
DESCRIPTION:Meets every Tuesday at the Craft Center.\nIndividuals meet to work on their own projects.
URL:https://rockyreader.com/calendar/extreme-beaders-244/
LOCATION:Craft Center\, 2453 Tremainsville Rd Unit B\, Toledo\, OH\, 43613\, United States
CATEGORIES:Extreme Beaders
END:VEVENT
BEGIN:VEVENT
DTSTART;TZID=America/Detroit:20251215T160000
DTEND;TZID=America/Detroit:20251215T200000
DTSTAMP:20260419T124856
CREATED:20251103T133516Z
LAST-MODIFIED:20251103T133516Z
UID:6796-1765814400-1765828800@rockyreader.com
SUMMARY:Gem Crafters
DESCRIPTION:$2/hour\nModerator – Stacy
URL:https://rockyreader.com/calendar/gem-crafters-448/
LOCATION:Craft Center\, 2453 Tremainsville Rd Unit B\, Toledo\, OH\, 43613\, United States
CATEGORIES:Gem Crafters
END:VEVENT
BEGIN:VEVENT
DTSTART;TZID=America/Detroit:20251213T150000
DTEND;TZID=America/Detroit:20251213T160000
DTSTAMP:20260419T124856
CREATED:20251103T133825Z
LAST-MODIFIED:20251103T133825Z
UID:6800-1765638000-1765641600@rockyreader.com
SUMMARY:Juniors
DESCRIPTION:Moderator: Stacey \nSee newsletter for program content
URL:https://rockyreader.com/calendar/juniors-4/
LOCATION:Craft Center\, 2453 Tremainsville Rd Unit B\, Toledo\, OH\, 43613\, United States
CATEGORIES:Metal Crafters
END:VEVENT
BEGIN:VEVENT
DTSTART;TZID=America/Detroit:20251213T120000
DTEND;TZID=America/Detroit:20251213T150000
DTSTAMP:20260419T124856
CREATED:20251102T025916Z
LAST-MODIFIED:20251102T025916Z
UID:6721-1765627200-1765638000@rockyreader.com
SUMMARY:Metal Crafters
DESCRIPTION:$2/hour\nModerator – Michelle
URL:https://rockyreader.com/calendar/metal-crafters-464/
LOCATION:Craft Center\, 2453 Tremainsville Rd Unit B\, Toledo\, OH\, 43613\, United States
CATEGORIES:Metal Crafters
END:VEVENT
BEGIN:VEVENT
DTSTART;TZID=America/Detroit:20251213T100000
DTEND;TZID=America/Detroit:20251213T150000
DTSTAMP:20260419T124856
CREATED:20251102T052335Z
LAST-MODIFIED:20251102T052335Z
UID:6784-1765620000-1765638000@rockyreader.com
SUMMARY:Gem Crafters
DESCRIPTION:$2/hour\nModerator – Sherm
URL:https://rockyreader.com/calendar/gem-crafters-442/
LOCATION:Craft Center\, 2453 Tremainsville Rd Unit B\, Toledo\, OH\, 43613\, United States
CATEGORIES:Gem Crafters
END:VEVENT
BEGIN:VEVENT
DTSTART;TZID=America/Detroit:20251211T110000
DTEND;TZID=America/Detroit:20251211T150000
DTSTAMP:20260419T124856
CREATED:20251102T030601Z
LAST-MODIFIED:20251102T030622Z
UID:6732-1765450800-1765465200@rockyreader.com
SUMMARY:Gem Crafters
DESCRIPTION:$2/hour\nModerator – Mike
URL:https://rockyreader.com/calendar/gem-crafters-432/
LOCATION:Craft Center\, 2453 Tremainsville Rd Unit B\, Toledo\, OH\, 43613\, United States
CATEGORIES:Gem Crafters
END:VEVENT
BEGIN:VEVENT
DTSTART;TZID=America/Detroit:20251209T150000
DTEND;TZID=America/Detroit:20251209T190000
DTSTAMP:20260419T124856
CREATED:20251102T051505Z
LAST-MODIFIED:20251102T051505Z
UID:6763-1765292400-1765306800@rockyreader.com
SUMMARY:Metal Crafters
DESCRIPTION:$2/hour\nModerator – Mike
URL:https://rockyreader.com/calendar/metal-crafters-469/
LOCATION:Craft Center\, 2453 Tremainsville Rd Unit B\, Toledo\, OH\, 43613\, United States
CATEGORIES:Metal Crafters
END:VEVENT
BEGIN:VEVENT
DTSTART;TZID=America/Detroit:20251209T100000
DTEND;TZID=America/Detroit:20251209T140000
DTSTAMP:20260419T124856
CREATED:20251102T031310Z
LAST-MODIFIED:20251102T031340Z
UID:6741-1765274400-1765288800@rockyreader.com
SUMMARY:Extreme Beaders
DESCRIPTION:Meets every Tuesday at the Craft Center.\nIndividuals meet to work on their own projects.
URL:https://rockyreader.com/calendar/extreme-beaders-242/
LOCATION:Craft Center\, 2453 Tremainsville Rd Unit B\, Toledo\, OH\, 43613\, United States
CATEGORIES:Extreme Beaders
END:VEVENT
BEGIN:VEVENT
DTSTART;TZID=America/Detroit:20251208T180000
DTEND;TZID=America/Detroit:20251208T200000
DTSTAMP:20260419T124856
CREATED:20251208T014018Z
LAST-MODIFIED:20251208T014018Z
UID:6837-1765216800-1765224000@rockyreader.com
SUMMARY:Collectors Group
DESCRIPTION:  \n$2/hr \nModerator – Max
URL:https://rockyreader.com/calendar/collectors-group-14/
LOCATION:OH
CATEGORIES:Mineral Studies
END:VEVENT
BEGIN:VEVENT
DTSTART;TZID=America/Detroit:20251208T180000
DTEND;TZID=America/Detroit:20251208T200000
DTSTAMP:20260419T124856
CREATED:20251102T032344Z
LAST-MODIFIED:20251102T032344Z
UID:6753-1765216800-1765224000@rockyreader.com
SUMMARY:Collectors Group
DESCRIPTION:  \n$2/hr \nModerator – Max
URL:https://rockyreader.com/calendar/collectors-group-13/
LOCATION:OH
CATEGORIES:Mineral Studies
END:VEVENT
BEGIN:VEVENT
DTSTART;TZID=America/Detroit:20251208T160000
DTEND;TZID=America/Detroit:20251208T200000
DTSTAMP:20260419T124856
CREATED:20251103T133446Z
LAST-MODIFIED:20251103T133446Z
UID:6794-1765209600-1765224000@rockyreader.com
SUMMARY:Gem Crafters
DESCRIPTION:$2/hour\nModerator – Stacy
URL:https://rockyreader.com/calendar/gem-crafters-447/
LOCATION:Craft Center\, 2453 Tremainsville Rd Unit B\, Toledo\, OH\, 43613\, United States
CATEGORIES:Gem Crafters
END:VEVENT
BEGIN:VEVENT
DTSTART;TZID=America/Detroit:20251206T100000
DTEND;TZID=America/Detroit:20251206T150000
DTSTAMP:20260419T124856
CREATED:20251102T052306Z
LAST-MODIFIED:20251102T052800Z
UID:6782-1765015200-1765033200@rockyreader.com
SUMMARY:Gem Crafters
DESCRIPTION:$2/hour\nModerator – Sherm
URL:https://rockyreader.com/calendar/gem-crafters-441/
LOCATION:Craft Center\, 2453 Tremainsville Rd Unit B\, Toledo\, OH\, 43613\, United States
CATEGORIES:Gem Crafters
END:VEVENT
BEGIN:VEVENT
DTSTART;TZID=America/Detroit:20251204T110000
DTEND;TZID=America/Detroit:20251204T150000
DTSTAMP:20260419T124856
CREATED:20251102T030300Z
LAST-MODIFIED:20251102T030300Z
UID:6728-1764846000-1764860400@rockyreader.com
SUMMARY:Gem Crafters
DESCRIPTION:$2/hour\nModerator – Michelle
URL:https://rockyreader.com/calendar/gem-crafters-430/
LOCATION:Craft Center\, 2453 Tremainsville Rd Unit B\, Toledo\, OH\, 43613\, United States
CATEGORIES:Gem Crafters
END:VEVENT
BEGIN:VEVENT
DTSTART;TZID=America/Detroit:20251202T150000
DTEND;TZID=America/Detroit:20251202T190000
DTSTAMP:20260419T124856
CREATED:20251102T051432Z
LAST-MODIFIED:20251102T051531Z
UID:6761-1764687600-1764702000@rockyreader.com
SUMMARY:Metal Crafters
DESCRIPTION:$2/hour\nModerator – Mike
URL:https://rockyreader.com/calendar/metal-crafters-468/
LOCATION:Craft Center\, 2453 Tremainsville Rd Unit B\, Toledo\, OH\, 43613\, United States
CATEGORIES:Metal Crafters
END:VEVENT
BEGIN:VEVENT
DTSTART;TZID=America/Detroit:20251202T100000
DTEND;TZID=America/Detroit:20251202T140000
DTSTAMP:20260419T124856
CREATED:20251102T031421Z
LAST-MODIFIED:20251102T031421Z
UID:6743-1764669600-1764684000@rockyreader.com
SUMMARY:Extreme Beaders
DESCRIPTION:Meets every Tuesday at the Craft Center.\nIndividuals meet to work on their own projects.
URL:https://rockyreader.com/calendar/extreme-beaders-243/
LOCATION:Craft Center\, 2453 Tremainsville Rd Unit B\, Toledo\, OH\, 43613\, United States
CATEGORIES:Extreme Beaders
END:VEVENT
BEGIN:VEVENT
DTSTART;TZID=America/Detroit:20251201T160000
DTEND;TZID=America/Detroit:20251201T200000
DTSTAMP:20260419T124856
CREATED:20251103T133415Z
LAST-MODIFIED:20251103T133415Z
UID:6792-1764604800-1764619200@rockyreader.com
SUMMARY:Gem Crafters
DESCRIPTION:$2/hour\nModerator – Stacy
URL:https://rockyreader.com/calendar/gem-crafters-446/
LOCATION:Craft Center\, 2453 Tremainsville Rd Unit B\, Toledo\, OH\, 43613\, United States
CATEGORIES:Gem Crafters
END:VEVENT
BEGIN:VEVENT
DTSTART;TZID=America/Detroit:20251129T100000
DTEND;TZID=America/Detroit:20251129T150000
DTSTAMP:20260419T124856
CREATED:20251102T052239Z
LAST-MODIFIED:20251102T052239Z
UID:6780-1764410400-1764428400@rockyreader.com
SUMMARY:Gem Crafters
DESCRIPTION:$2/hour\nModerator – Sherm
URL:https://rockyreader.com/calendar/gem-crafters-440/
LOCATION:Craft Center\, 2453 Tremainsville Rd Unit B\, Toledo\, OH\, 43613\, United States
CATEGORIES:Gem Crafters
END:VEVENT
BEGIN:VEVENT
DTSTART;TZID=America/Detroit:20251127T110000
DTEND;TZID=America/Detroit:20251127T150000
DTSTAMP:20260419T124856
CREATED:20250921T231243Z
LAST-MODIFIED:20250921T231243Z
UID:6650-1764241200-1764255600@rockyreader.com
SUMMARY:Thanksgiving
DESCRIPTION:No Classes. Enjoy the holiday.
URL:https://rockyreader.com/calendar/thanksgiving-4/
LOCATION:Craft Center\, 2453 Tremainsville Rd Unit B\, Toledo\, OH\, 43613\, United States
CATEGORIES:Gem Crafters
END:VEVENT
BEGIN:VEVENT
DTSTART;TZID=America/Detroit:20251125T150000
DTEND;TZID=America/Detroit:20251125T190000
DTSTAMP:20260419T124856
CREATED:20250921T230309Z
LAST-MODIFIED:20250921T230309Z
UID:6630-1764082800-1764097200@rockyreader.com
SUMMARY:Metal Crafters
DESCRIPTION:$2/hour\nModerator – Mike
URL:https://rockyreader.com/calendar/metal-crafters-462/
LOCATION:Craft Center\, 2453 Tremainsville Rd Unit B\, Toledo\, OH\, 43613\, United States
CATEGORIES:Metal Crafters
END:VEVENT
BEGIN:VEVENT
DTSTART;TZID=America/Detroit:20251125T100000
DTEND;TZID=America/Detroit:20251125T140000
DTSTAMP:20260419T124856
CREATED:20250921T232450Z
LAST-MODIFIED:20250921T232450Z
UID:6662-1764064800-1764079200@rockyreader.com
SUMMARY:Extreme Beaders
DESCRIPTION:Meets every Tuesday at the Craft Center.\nIndividuals meet to work on their own projects.
URL:https://rockyreader.com/calendar/extreme-beaders-241/
LOCATION:Craft Center\, 2453 Tremainsville Rd Unit B\, Toledo\, OH\, 43613\, United States
CATEGORIES:Extreme Beaders
END:VEVENT
BEGIN:VEVENT
DTSTART;TZID=America/Detroit:20251124T160000
DTEND;TZID=America/Detroit:20251124T200000
DTSTAMP:20260419T124856
CREATED:20251103T133310Z
LAST-MODIFIED:20251103T133310Z
UID:6790-1764000000-1764014400@rockyreader.com
SUMMARY:Gem Crafters
DESCRIPTION:$2/hour\nModerator – Stacy
URL:https://rockyreader.com/calendar/gem-crafters-445/
LOCATION:Craft Center\, 2453 Tremainsville Rd Unit B\, Toledo\, OH\, 43613\, United States
CATEGORIES:Gem Crafters
END:VEVENT
BEGIN:VEVENT
DTSTART;TZID=America/Detroit:20251122T120000
DTEND;TZID=America/Detroit:20251122T150000
DTSTAMP:20260419T124856
CREATED:20250921T230842Z
LAST-MODIFIED:20250921T230842Z
UID:6642-1763812800-1763823600@rockyreader.com
SUMMARY:Metal Crafters
DESCRIPTION:$2/hour\nModerator – Michelle
URL:https://rockyreader.com/calendar/metal-crafters-466/
LOCATION:Craft Center\, 2453 Tremainsville Rd Unit B\, Toledo\, OH\, 43613\, United States
CATEGORIES:Metal Crafters
END:VEVENT
BEGIN:VEVENT
DTSTART;TZID=America/Detroit:20251122T110000
DTEND;TZID=America/Detroit:20251122T150000
DTSTAMP:20260419T124856
CREATED:20250921T230555Z
LAST-MODIFIED:20250921T230555Z
UID:6634-1763809200-1763823600@rockyreader.com
SUMMARY:Make Your 1st Pendant
DESCRIPTION:Class: Make Your First Pendant Class Saturday Nov 22nd from 11 am to 3 pm. Students will learn how to cut metal\, make a bezel and back plate\, solder\, polish and set a stone. There are two parts to this class; the first three- hour session is scheduled by contacting instructor Michelle Grigore at mgrigoretgrh@gmail.com at least a week before the above date. Members pay $45\, non-members $55. All materials provided to complete a small sterling silver pendant with a polished gemstone cabochon.
URL:https://rockyreader.com/calendar/make-your-1st-pendant-31/
LOCATION:Craft Center\, 2453 Tremainsville Rd Unit B\, Toledo\, OH\, 43613\, United States
CATEGORIES:Class
END:VEVENT
END:VCALENDAR