BEGIN:VCALENDAR
VERSION:2.0
PRODID:-//Toledo Gem &amp; Rockhound Club - ECPv6.15.15//NONSGML v1.0//EN
CALSCALE:GREGORIAN
METHOD:PUBLISH
X-WR-CALNAME:Toledo Gem &amp; Rockhound Club
X-ORIGINAL-URL:https://rockyreader.com
X-WR-CALDESC:Events for Toledo Gem &amp; Rockhound Club
REFRESH-INTERVAL;VALUE=DURATION:PT1H
X-Robots-Tag:noindex
X-PUBLISHED-TTL:PT1H
BEGIN:VTIMEZONE
TZID:America/Detroit
BEGIN:DAYLIGHT
TZOFFSETFROM:-0500
TZOFFSETTO:-0400
TZNAME:EDT
DTSTART:20240310T070000
END:DAYLIGHT
BEGIN:STANDARD
TZOFFSETFROM:-0400
TZOFFSETTO:-0500
TZNAME:EST
DTSTART:20241103T060000
END:STANDARD
BEGIN:DAYLIGHT
TZOFFSETFROM:-0500
TZOFFSETTO:-0400
TZNAME:EDT
DTSTART:20250309T070000
END:DAYLIGHT
BEGIN:STANDARD
TZOFFSETFROM:-0400
TZOFFSETTO:-0500
TZNAME:EST
DTSTART:20251102T060000
END:STANDARD
BEGIN:DAYLIGHT
TZOFFSETFROM:-0500
TZOFFSETTO:-0400
TZNAME:EDT
DTSTART:20260308T070000
END:DAYLIGHT
BEGIN:STANDARD
TZOFFSETFROM:-0400
TZOFFSETTO:-0500
TZNAME:EST
DTSTART:20261101T060000
END:STANDARD
END:VTIMEZONE
BEGIN:VEVENT
DTSTART;TZID=America/Detroit:20250619T110000
DTEND;TZID=America/Detroit:20250619T150000
DTSTAMP:20260425T190319
CREATED:20250611T114144Z
LAST-MODIFIED:20250611T114722Z
UID:6371-1750330800-1750345200@rockyreader.com
SUMMARY:Gem Crafters
DESCRIPTION:$2/hour\nModerator – Steve
URL:https://rockyreader.com/calendar/gem-crafters-394/
LOCATION:Craft Center\, 2453 Tremainsville Rd Unit B\, Toledo\, OH\, 43613\, United States
CATEGORIES:Gem Crafters
END:VEVENT
BEGIN:VEVENT
DTSTART;TZID=America/Detroit:20250618T190000
DTEND;TZID=America/Detroit:20250618T203000
DTSTAMP:20260425T190319
CREATED:20250611T114646Z
LAST-MODIFIED:20250611T164547Z
UID:6381-1750273200-1750278600@rockyreader.com
SUMMARY:Monthly Club Meeting/Auction
DESCRIPTION:Starting time: 7:00 p.m. with auction following \nMeeting at the Craft Center 2453 Tremainsville Rd\, Unit B 6:00 p.m. \n  \n  \n  \n  \n  \n  \n 
URL:https://rockyreader.com/calendar/monthly-club-meeting-48/
LOCATION:Craft Center\, 2453 Tremainsville Rd Unit B\, Toledo\, OH\, 43613\, United States
CATEGORIES:TG&RC Meeting
END:VEVENT
BEGIN:VEVENT
DTSTART;TZID=America/Detroit:20250617T100000
DTEND;TZID=America/Detroit:20250617T140000
DTSTAMP:20260425T190319
CREATED:20250611T114312Z
LAST-MODIFIED:20250611T114408Z
UID:6375-1750154400-1750168800@rockyreader.com
SUMMARY:Extreme Beaders
DESCRIPTION:Meets every Tuesday at the Craft Center.\nIndividuals meet to work on their own projects.
URL:https://rockyreader.com/calendar/extreme-beaders-217/
LOCATION:Craft Center\, 2453 Tremainsville Rd Unit B\, Toledo\, OH\, 43613\, United States
CATEGORIES:Extreme Beaders
END:VEVENT
BEGIN:VEVENT
DTSTART;TZID=America/Detroit:20250612T110000
DTEND;TZID=America/Detroit:20250612T150000
DTSTAMP:20260425T190319
CREATED:20250611T114113Z
LAST-MODIFIED:20250611T114113Z
UID:6369-1749726000-1749740400@rockyreader.com
SUMMARY:Gem Crafters
DESCRIPTION:$2/hour\nModerator – Steve
URL:https://rockyreader.com/calendar/gem-crafters-393/
LOCATION:Craft Center\, 2453 Tremainsville Rd Unit B\, Toledo\, OH\, 43613\, United States
CATEGORIES:Gem Crafters
END:VEVENT
BEGIN:VEVENT
DTSTART;TZID=America/Detroit:20250610T120000
DTEND;TZID=America/Detroit:20250610T150000
DTSTAMP:20260425T190319
CREATED:20250611T163258Z
LAST-MODIFIED:20250611T163258Z
UID:6383-1749556800-1749567600@rockyreader.com
SUMMARY:Metal Crafters
DESCRIPTION:$2/hour\nModerator – Michelle
URL:https://rockyreader.com/calendar/metal-crafters-420/
LOCATION:Craft Center\, 2453 Tremainsville Rd Unit B\, Toledo\, OH\, 43613\, United States
CATEGORIES:Metal Crafters
END:VEVENT
BEGIN:VEVENT
DTSTART;TZID=America/Detroit:20250610T100000
DTEND;TZID=America/Detroit:20250610T140000
DTSTAMP:20260425T190319
CREATED:20250611T114532Z
LAST-MODIFIED:20250611T114532Z
UID:6379-1749549600-1749564000@rockyreader.com
SUMMARY:Extreme Beaders
DESCRIPTION:Meets every Tuesday at the Craft Center.\nIndividuals meet to work on their own projects.
URL:https://rockyreader.com/calendar/extreme-beaders-219/
LOCATION:Craft Center\, 2453 Tremainsville Rd Unit B\, Toledo\, OH\, 43613\, United States
CATEGORIES:Extreme Beaders
END:VEVENT
BEGIN:VEVENT
DTSTART;TZID=America/Detroit:20250609T180000
DTEND;TZID=America/Detroit:20250609T200000
DTSTAMP:20260425T190319
CREATED:20250611T163944Z
LAST-MODIFIED:20250611T163944Z
UID:6394-1749492000-1749499200@rockyreader.com
SUMMARY:Collectors Group
DESCRIPTION:This session theme is “Fix That Fossil” \n$2/hr \nModerator – Max
URL:https://rockyreader.com/calendar/collectors-group-8/
LOCATION:OH
CATEGORIES:Mineral Studies
END:VEVENT
BEGIN:VEVENT
DTSTART;TZID=America/Detroit:20250608T160000
DTEND;TZID=America/Detroit:20250608T190000
DTSTAMP:20260425T190319
CREATED:20250611T163531Z
LAST-MODIFIED:20250611T163531Z
UID:6387-1749398400-1749409200@rockyreader.com
SUMMARY:Metal Crafters
DESCRIPTION:$2/hour\nModerator – Will
URL:https://rockyreader.com/calendar/metal-crafters-432/
LOCATION:Craft Center\, 2453 Tremainsville Rd Unit B\, Toledo\, OH\, 43613\, United States
CATEGORIES:Metal Crafters
END:VEVENT
BEGIN:VEVENT
DTSTART;TZID=America/Detroit:20250603T120000
DTEND;TZID=America/Detroit:20250603T150000
DTSTAMP:20260425T190319
CREATED:20250421T185040Z
LAST-MODIFIED:20250421T185040Z
UID:6346-1748952000-1748962800@rockyreader.com
SUMMARY:Metal Crafters
DESCRIPTION:$2/hour\nModerator – Mike
URL:https://rockyreader.com/calendar/metal-crafters-427/
LOCATION:Craft Center\, 2453 Tremainsville Rd Unit B\, Toledo\, OH\, 43613\, United States
CATEGORIES:Metal Crafters
END:VEVENT
BEGIN:VEVENT
DTSTART;TZID=America/Detroit:20250603T100000
DTEND;TZID=America/Detroit:20250603T140000
DTSTAMP:20260425T190319
CREATED:20250611T114239Z
LAST-MODIFIED:20250611T114239Z
UID:6373-1748944800-1748959200@rockyreader.com
SUMMARY:Extreme Beaders
DESCRIPTION:Meets every Tuesday at the Craft Center.\nIndividuals meet to work on their own projects.
URL:https://rockyreader.com/calendar/extreme-beaders-216/
LOCATION:Craft Center\, 2453 Tremainsville Rd Unit B\, Toledo\, OH\, 43613\, United States
CATEGORIES:Extreme Beaders
END:VEVENT
BEGIN:VEVENT
DTSTART;TZID=America/Detroit:20250531T120000
DTEND;TZID=America/Detroit:20250531T150000
DTSTAMP:20260425T190319
CREATED:20250327T022001Z
LAST-MODIFIED:20250327T022001Z
UID:6137-1748692800-1748703600@rockyreader.com
SUMMARY:Metal Crafters
DESCRIPTION:$2/hour\nModerator – Michelle
URL:https://rockyreader.com/calendar/metal-crafters-422/
LOCATION:Craft Center\, 2453 Tremainsville Rd Unit B\, Toledo\, OH\, 43613\, United States
CATEGORIES:Metal Crafters
END:VEVENT
BEGIN:VEVENT
DTSTART;TZID=America/Detroit:20250527T120000
DTEND;TZID=America/Detroit:20250527T150000
DTSTAMP:20260425T190319
CREATED:20250401T115803Z
LAST-MODIFIED:20250401T115803Z
UID:6154-1748347200-1748358000@rockyreader.com
SUMMARY:Metal Crafters
DESCRIPTION:$2/hour\nModerator – Michelle
URL:https://rockyreader.com/calendar/metal-crafters-424/
LOCATION:Craft Center\, 2453 Tremainsville Rd Unit B\, Toledo\, OH\, 43613\, United States
CATEGORIES:Metal Crafters
END:VEVENT
BEGIN:VEVENT
DTSTART;TZID=America/Detroit:20250527T100000
DTEND;TZID=America/Detroit:20250527T140000
DTSTAMP:20260425T190319
CREATED:20250421T184815Z
LAST-MODIFIED:20250421T184815Z
UID:6340-1748340000-1748354400@rockyreader.com
SUMMARY:Extreme Beaders
DESCRIPTION:Meets every Tuesday at the Craft Center.\nIndividuals meet to work on their own projects.
URL:https://rockyreader.com/calendar/extreme-beaders-215/
LOCATION:Craft Center\, 2453 Tremainsville Rd Unit B\, Toledo\, OH\, 43613\, United States
CATEGORIES:Extreme Beaders
END:VEVENT
BEGIN:VEVENT
DTSTART;TZID=America/Detroit:20250524T120000
DTEND;TZID=America/Detroit:20250524T150000
DTSTAMP:20260425T190319
CREATED:20250327T021940Z
LAST-MODIFIED:20250327T021940Z
UID:6135-1748088000-1748098800@rockyreader.com
SUMMARY:Metal Crafters
DESCRIPTION:$2/hour\nModerator – Michelle
URL:https://rockyreader.com/calendar/metal-crafters-421/
LOCATION:Craft Center\, 2453 Tremainsville Rd Unit B\, Toledo\, OH\, 43613\, United States
CATEGORIES:Metal Crafters
END:VEVENT
BEGIN:VEVENT
DTSTART;TZID=America/Detroit:20250522T110000
DTEND;TZID=America/Detroit:20250522T150000
DTSTAMP:20260425T190319
CREATED:20250421T183742Z
LAST-MODIFIED:20250421T183742Z
UID:6332-1747911600-1747926000@rockyreader.com
SUMMARY:Gem Crafters
DESCRIPTION:$2/hour\nModerator – Mike
URL:https://rockyreader.com/calendar/gem-crafters-390/
LOCATION:Craft Center\, 2453 Tremainsville Rd Unit B\, Toledo\, OH\, 43613\, United States
CATEGORIES:Gem Crafters
END:VEVENT
BEGIN:VEVENT
DTSTART;TZID=America/Detroit:20250521T190000
DTEND;TZID=America/Detroit:20250521T203000
DTSTAMP:20260425T190319
CREATED:20250327T022105Z
LAST-MODIFIED:20250327T022134Z
UID:6139-1747854000-1747859400@rockyreader.com
SUMMARY:Monthly Club Meeting
DESCRIPTION:Starting time: 7:00 p.m. \nMeeting at the Craft Center 2453 Tremainsville Rd\, Unit B 6:00 p.m. \n  \n  \n  \n  \n  \n  \n 
URL:https://rockyreader.com/calendar/monthly-club-meeting-auction-2/
LOCATION:Craft Center\, 2453 Tremainsville Rd Unit B\, Toledo\, OH\, 43613\, United States
CATEGORIES:TG&RC Meeting
END:VEVENT
BEGIN:VEVENT
DTSTART;TZID=America/Detroit:20250520T120000
DTEND;TZID=America/Detroit:20250520T150000
DTSTAMP:20260425T190319
CREATED:20250401T115737Z
LAST-MODIFIED:20250401T115737Z
UID:6152-1747742400-1747753200@rockyreader.com
SUMMARY:Metal Crafters
DESCRIPTION:$2/hour\nModerator – Michelle
URL:https://rockyreader.com/calendar/metal-crafters-423/
LOCATION:Craft Center\, 2453 Tremainsville Rd Unit B\, Toledo\, OH\, 43613\, United States
CATEGORIES:Metal Crafters
END:VEVENT
BEGIN:VEVENT
DTSTART;TZID=America/Detroit:20250520T100000
DTEND;TZID=America/Detroit:20250520T140000
DTSTAMP:20260425T190319
CREATED:20250421T184748Z
LAST-MODIFIED:20250421T184748Z
UID:6338-1747735200-1747749600@rockyreader.com
SUMMARY:Extreme Beaders
DESCRIPTION:Meets every Tuesday at the Craft Center.\nIndividuals meet to work on their own projects.
URL:https://rockyreader.com/calendar/extreme-beaders-214/
LOCATION:Craft Center\, 2453 Tremainsville Rd Unit B\, Toledo\, OH\, 43613\, United States
CATEGORIES:Extreme Beaders
END:VEVENT
BEGIN:VEVENT
DTSTART;TZID=America/Detroit:20250518T123000
DTEND;TZID=America/Detroit:20250518T153000
DTSTAMP:20260425T190319
CREATED:20250421T185352Z
LAST-MODIFIED:20250421T185352Z
UID:6354-1747571400-1747582200@rockyreader.com
SUMMARY:Gem Crafters
DESCRIPTION:$2/hour\nModerator – Erika
URL:https://rockyreader.com/calendar/gem-crafters-391/
LOCATION:Craft Center\, 2453 Tremainsville Rd Unit B\, Toledo\, OH\, 43613\, United States
CATEGORIES:Gem Crafters
END:VEVENT
BEGIN:VEVENT
DTSTART;TZID=America/Detroit:20250517T120000
DTEND;TZID=America/Detroit:20250517T150000
DTSTAMP:20260425T190319
CREATED:20250421T185217Z
LAST-MODIFIED:20250421T185217Z
UID:6352-1747483200-1747494000@rockyreader.com
SUMMARY:Metal Crafters
DESCRIPTION:$2/hour\nModerator – Mike
URL:https://rockyreader.com/calendar/metal-crafters-430/
LOCATION:Craft Center\, 2453 Tremainsville Rd Unit B\, Toledo\, OH\, 43613\, United States
CATEGORIES:Metal Crafters
END:VEVENT
BEGIN:VEVENT
DTSTART;TZID=America/Detroit:20250515T110000
DTEND;TZID=America/Detroit:20250515T150000
DTSTAMP:20260425T190319
CREATED:20250421T183619Z
LAST-MODIFIED:20250421T183619Z
UID:6328-1747306800-1747321200@rockyreader.com
SUMMARY:Gem Crafters
DESCRIPTION:$2/hour\nModerator – Steve
URL:https://rockyreader.com/calendar/gem-crafters-380/
LOCATION:Craft Center\, 2453 Tremainsville Rd Unit B\, Toledo\, OH\, 43613\, United States
CATEGORIES:Gem Crafters
END:VEVENT
BEGIN:VEVENT
DTSTART;TZID=America/Detroit:20250513T120000
DTEND;TZID=America/Detroit:20250513T150000
DTSTAMP:20260425T190319
CREATED:20250421T185009Z
LAST-MODIFIED:20250421T185009Z
UID:6344-1747137600-1747148400@rockyreader.com
SUMMARY:Metal Crafters
DESCRIPTION:$2/hour\nModerator – Mike
URL:https://rockyreader.com/calendar/metal-crafters-426/
LOCATION:Craft Center\, 2453 Tremainsville Rd Unit B\, Toledo\, OH\, 43613\, United States
CATEGORIES:Metal Crafters
END:VEVENT
BEGIN:VEVENT
DTSTART;TZID=America/Detroit:20250513T100000
DTEND;TZID=America/Detroit:20250513T140000
DTSTAMP:20260425T190319
CREATED:20250421T184724Z
LAST-MODIFIED:20250421T184724Z
UID:6336-1747130400-1747144800@rockyreader.com
SUMMARY:Extreme Beaders
DESCRIPTION:Meets every Tuesday at the Craft Center.\nIndividuals meet to work on their own projects.
URL:https://rockyreader.com/calendar/extreme-beaders-213/
LOCATION:Craft Center\, 2453 Tremainsville Rd Unit B\, Toledo\, OH\, 43613\, United States
CATEGORIES:Extreme Beaders
END:VEVENT
BEGIN:VEVENT
DTSTART;TZID=America/Detroit:20250512T180000
DTEND;TZID=America/Detroit:20250512T200000
DTSTAMP:20260425T190319
CREATED:20250401T190315Z
LAST-MODIFIED:20250421T190525Z
UID:6160-1747072800-1747080000@rockyreader.com
SUMMARY:Collectors Group
DESCRIPTION:This session theme is “Fix That Fossil” \n$2/hr \nModerator – Max
URL:https://rockyreader.com/calendar/collectors-group-6/
LOCATION:OH
CATEGORIES:Mineral Studies
END:VEVENT
BEGIN:VEVENT
DTSTART;TZID=America/Detroit:20250510T120000
DTEND;TZID=America/Detroit:20250510T150000
DTSTAMP:20260425T190319
CREATED:20250421T185147Z
LAST-MODIFIED:20250421T185147Z
UID:6350-1746878400-1746889200@rockyreader.com
SUMMARY:Metal Crafters
DESCRIPTION:$2/hour\nModerator – Mike
URL:https://rockyreader.com/calendar/metal-crafters-429/
LOCATION:Craft Center\, 2453 Tremainsville Rd Unit B\, Toledo\, OH\, 43613\, United States
CATEGORIES:Metal Crafters
END:VEVENT
BEGIN:VEVENT
DTSTART;TZID=America/Detroit:20250508T110000
DTEND;TZID=America/Detroit:20250508T150000
DTSTAMP:20260425T190319
CREATED:20250421T183714Z
LAST-MODIFIED:20250421T183714Z
UID:6330-1746702000-1746716400@rockyreader.com
SUMMARY:Gem Crafters
DESCRIPTION:$2/hour\nModerator – Mike
URL:https://rockyreader.com/calendar/gem-crafters-389/
LOCATION:Craft Center\, 2453 Tremainsville Rd Unit B\, Toledo\, OH\, 43613\, United States
CATEGORIES:Gem Crafters
END:VEVENT
BEGIN:VEVENT
DTSTART;TZID=America/Detroit:20250506T120000
DTEND;TZID=America/Detroit:20250506T150000
DTSTAMP:20260425T190319
CREATED:20250421T184929Z
LAST-MODIFIED:20250421T184929Z
UID:6342-1746532800-1746543600@rockyreader.com
SUMMARY:Metal Crafters
DESCRIPTION:$2/hour\nModerator – Mike
URL:https://rockyreader.com/calendar/metal-crafters-425/
LOCATION:Craft Center\, 2453 Tremainsville Rd Unit B\, Toledo\, OH\, 43613\, United States
CATEGORIES:Metal Crafters
END:VEVENT
BEGIN:VEVENT
DTSTART;TZID=America/Detroit:20250506T100000
DTEND;TZID=America/Detroit:20250506T140000
DTSTAMP:20260425T190319
CREATED:20250421T184657Z
LAST-MODIFIED:20250421T184657Z
UID:6334-1746525600-1746540000@rockyreader.com
SUMMARY:Extreme Beaders
DESCRIPTION:Meets every Tuesday at the Craft Center.\nIndividuals meet to work on their own projects.
URL:https://rockyreader.com/calendar/extreme-beaders-203/
LOCATION:Craft Center\, 2453 Tremainsville Rd Unit B\, Toledo\, OH\, 43613\, United States
CATEGORIES:Extreme Beaders
END:VEVENT
BEGIN:VEVENT
DTSTART;TZID=America/Detroit:20250504T130000
DTEND;TZID=America/Detroit:20250504T170000
DTSTAMP:20260425T190319
CREATED:20250421T185901Z
LAST-MODIFIED:20250421T185901Z
UID:6358-1746363600-1746378000@rockyreader.com
SUMMARY:Glass Crafters
DESCRIPTION:$2/hour\nModerator – Steve
URL:https://rockyreader.com/calendar/glass-crafters/
LOCATION:Craft Center\, 2453 Tremainsville Rd Unit B\, Toledo\, OH\, 43613\, United States
CATEGORIES:Glass Crafters
END:VEVENT
BEGIN:VEVENT
DTSTART;TZID=America/Detroit:20250503T120000
DTEND;TZID=America/Detroit:20250503T150000
DTSTAMP:20260425T190319
CREATED:20250421T185114Z
LAST-MODIFIED:20250421T185114Z
UID:6348-1746273600-1746284400@rockyreader.com
SUMMARY:Metal Crafters
DESCRIPTION:$2/hour\nModerator – Mike
URL:https://rockyreader.com/calendar/metal-crafters-428/
LOCATION:Craft Center\, 2453 Tremainsville Rd Unit B\, Toledo\, OH\, 43613\, United States
CATEGORIES:Metal Crafters
END:VEVENT
END:VCALENDAR