BEGIN:VCALENDAR
VERSION:2.0
PRODID:-//Toledo Gem &amp; Rockhound Club - ECPv6.15.15//NONSGML v1.0//EN
CALSCALE:GREGORIAN
METHOD:PUBLISH
X-ORIGINAL-URL:https://rockyreader.com
X-WR-CALDESC:Events for Toledo Gem &amp; Rockhound Club
REFRESH-INTERVAL;VALUE=DURATION:PT1H
X-Robots-Tag:noindex
X-PUBLISHED-TTL:PT1H
BEGIN:VTIMEZONE
TZID:America/Detroit
BEGIN:DAYLIGHT
TZOFFSETFROM:-0500
TZOFFSETTO:-0400
TZNAME:EDT
DTSTART:20230312T070000
END:DAYLIGHT
BEGIN:STANDARD
TZOFFSETFROM:-0400
TZOFFSETTO:-0500
TZNAME:EST
DTSTART:20231105T060000
END:STANDARD
BEGIN:DAYLIGHT
TZOFFSETFROM:-0500
TZOFFSETTO:-0400
TZNAME:EDT
DTSTART:20240310T070000
END:DAYLIGHT
BEGIN:STANDARD
TZOFFSETFROM:-0400
TZOFFSETTO:-0500
TZNAME:EST
DTSTART:20241103T060000
END:STANDARD
BEGIN:DAYLIGHT
TZOFFSETFROM:-0500
TZOFFSETTO:-0400
TZNAME:EDT
DTSTART:20250309T070000
END:DAYLIGHT
BEGIN:STANDARD
TZOFFSETFROM:-0400
TZOFFSETTO:-0500
TZNAME:EST
DTSTART:20251102T060000
END:STANDARD
END:VTIMEZONE
BEGIN:VEVENT
DTSTART;TZID=America/Detroit:20241221T100000
DTEND;TZID=America/Detroit:20241221T150000
DTSTAMP:20260425T113828
CREATED:20241221T194331Z
LAST-MODIFIED:20241221T194331Z
UID:5911-1734775200-1734793200@rockyreader.com
SUMMARY:Gem Crafters
DESCRIPTION:$2/hour\nModerator – Sherm
URL:https://rockyreader.com/calendar/gem-crafters-366/
LOCATION:Craft Center\, 2453 Tremainsville Rd Unit B\, Toledo\, OH\, 43613\, United States
CATEGORIES:Gem Crafters
END:VEVENT
BEGIN:VEVENT
DTSTART;TZID=America/Detroit:20241228T100000
DTEND;TZID=America/Detroit:20241228T150000
DTSTAMP:20260425T113828
CREATED:20241221T194358Z
LAST-MODIFIED:20241221T194358Z
UID:5913-1735380000-1735398000@rockyreader.com
SUMMARY:Gem Crafters
DESCRIPTION:$2/hour\nModerator – Sherm
URL:https://rockyreader.com/calendar/gem-crafters-367/
LOCATION:Craft Center\, 2453 Tremainsville Rd Unit B\, Toledo\, OH\, 43613\, United States
CATEGORIES:Gem Crafters
END:VEVENT
END:VCALENDAR