BEGIN:VCALENDAR
VERSION:2.0
PRODID:-//Toledo Gem &amp; Rockhound Club - ECPv6.15.15//NONSGML v1.0//EN
CALSCALE:GREGORIAN
METHOD:PUBLISH
X-WR-CALNAME:Toledo Gem &amp; Rockhound Club
X-ORIGINAL-URL:https://rockyreader.com
X-WR-CALDESC:Events for Toledo Gem &amp; Rockhound Club
REFRESH-INTERVAL;VALUE=DURATION:PT1H
X-Robots-Tag:noindex
X-PUBLISHED-TTL:PT1H
BEGIN:VTIMEZONE
TZID:America/Detroit
BEGIN:DAYLIGHT
TZOFFSETFROM:-0500
TZOFFSETTO:-0400
TZNAME:EDT
DTSTART:20240310T070000
END:DAYLIGHT
BEGIN:STANDARD
TZOFFSETFROM:-0400
TZOFFSETTO:-0500
TZNAME:EST
DTSTART:20241103T060000
END:STANDARD
BEGIN:DAYLIGHT
TZOFFSETFROM:-0500
TZOFFSETTO:-0400
TZNAME:EDT
DTSTART:20250309T070000
END:DAYLIGHT
BEGIN:STANDARD
TZOFFSETFROM:-0400
TZOFFSETTO:-0500
TZNAME:EST
DTSTART:20251102T060000
END:STANDARD
BEGIN:DAYLIGHT
TZOFFSETFROM:-0500
TZOFFSETTO:-0400
TZNAME:EDT
DTSTART:20260308T070000
END:DAYLIGHT
BEGIN:STANDARD
TZOFFSETFROM:-0400
TZOFFSETTO:-0500
TZNAME:EST
DTSTART:20261101T060000
END:STANDARD
END:VTIMEZONE
BEGIN:VEVENT
DTSTART;TZID=America/Detroit:20250802T110000
DTEND;TZID=America/Detroit:20250802T150000
DTSTAMP:20260420T234638
CREATED:20250725T040851Z
LAST-MODIFIED:20250725T040851Z
UID:6498-1754132400-1754146800@rockyreader.com
SUMMARY:Gem Crafters
DESCRIPTION:$2/hour\nModerator – Sherm
URL:https://rockyreader.com/calendar/gem-crafters-406/
LOCATION:Craft Center\, 2453 Tremainsville Rd Unit B\, Toledo\, OH\, 43613\, United States
CATEGORIES:Gem Crafters
END:VEVENT
BEGIN:VEVENT
DTSTART;TZID=America/Detroit:20250809T110000
DTEND;TZID=America/Detroit:20250809T150000
DTSTAMP:20260420T234638
CREATED:20250725T040927Z
LAST-MODIFIED:20250725T040927Z
UID:6500-1754737200-1754751600@rockyreader.com
SUMMARY:Gem Crafters
DESCRIPTION:$2/hour\nModerator – Sherm
URL:https://rockyreader.com/calendar/gem-crafters-407/
LOCATION:Craft Center\, 2453 Tremainsville Rd Unit B\, Toledo\, OH\, 43613\, United States
CATEGORIES:Gem Crafters
END:VEVENT
END:VCALENDAR