BEGIN:VCALENDAR
VERSION:2.0
PRODID:-//Toledo Gem &amp; Rockhound Club - ECPv6.15.15//NONSGML v1.0//EN
CALSCALE:GREGORIAN
METHOD:PUBLISH
X-ORIGINAL-URL:https://rockyreader.com
X-WR-CALDESC:Events for Toledo Gem &amp; Rockhound Club
REFRESH-INTERVAL;VALUE=DURATION:PT1H
X-Robots-Tag:noindex
X-PUBLISHED-TTL:PT1H
BEGIN:VTIMEZONE
TZID:America/Detroit
BEGIN:DAYLIGHT
TZOFFSETFROM:-0500
TZOFFSETTO:-0400
TZNAME:EDT
DTSTART:20240310T070000
END:DAYLIGHT
BEGIN:STANDARD
TZOFFSETFROM:-0400
TZOFFSETTO:-0500
TZNAME:EST
DTSTART:20241103T060000
END:STANDARD
BEGIN:DAYLIGHT
TZOFFSETFROM:-0500
TZOFFSETTO:-0400
TZNAME:EDT
DTSTART:20250309T070000
END:DAYLIGHT
BEGIN:STANDARD
TZOFFSETFROM:-0400
TZOFFSETTO:-0500
TZNAME:EST
DTSTART:20251102T060000
END:STANDARD
BEGIN:DAYLIGHT
TZOFFSETFROM:-0500
TZOFFSETTO:-0400
TZNAME:EDT
DTSTART:20260308T070000
END:DAYLIGHT
BEGIN:STANDARD
TZOFFSETFROM:-0400
TZOFFSETTO:-0500
TZNAME:EST
DTSTART:20261101T060000
END:STANDARD
END:VTIMEZONE
BEGIN:VEVENT
DTSTART;TZID=America/Detroit:20251206T100000
DTEND;TZID=America/Detroit:20251206T150000
DTSTAMP:20260420T003707
CREATED:20251102T052306Z
LAST-MODIFIED:20251102T052800Z
UID:6782-1765015200-1765033200@rockyreader.com
SUMMARY:Gem Crafters
DESCRIPTION:$2/hour\nModerator – Sherm
URL:https://rockyreader.com/calendar/gem-crafters-441/
LOCATION:Craft Center\, 2453 Tremainsville Rd Unit B\, Toledo\, OH\, 43613\, United States
CATEGORIES:Gem Crafters
END:VEVENT
BEGIN:VEVENT
DTSTART;TZID=America/Detroit:20251213T100000
DTEND;TZID=America/Detroit:20251213T150000
DTSTAMP:20260420T003708
CREATED:20251102T052335Z
LAST-MODIFIED:20251102T052335Z
UID:6784-1765620000-1765638000@rockyreader.com
SUMMARY:Gem Crafters
DESCRIPTION:$2/hour\nModerator – Sherm
URL:https://rockyreader.com/calendar/gem-crafters-442/
LOCATION:Craft Center\, 2453 Tremainsville Rd Unit B\, Toledo\, OH\, 43613\, United States
CATEGORIES:Gem Crafters
END:VEVENT
BEGIN:VEVENT
DTSTART;TZID=America/Detroit:20251220T100000
DTEND;TZID=America/Detroit:20251220T150000
DTSTAMP:20260420T003708
CREATED:20251102T052923Z
LAST-MODIFIED:20251102T052923Z
UID:6786-1766224800-1766242800@rockyreader.com
SUMMARY:Gem Crafters
DESCRIPTION:$2/hour\nModerator – Sherm
URL:https://rockyreader.com/calendar/gem-crafters-443/
LOCATION:Craft Center\, 2453 Tremainsville Rd Unit B\, Toledo\, OH\, 43613\, United States
CATEGORIES:Gem Crafters
END:VEVENT
BEGIN:VEVENT
DTSTART;TZID=America/Detroit:20251227T100000
DTEND;TZID=America/Detroit:20251227T150000
DTSTAMP:20260420T003708
CREATED:20251102T052946Z
LAST-MODIFIED:20251102T052946Z
UID:6788-1766829600-1766847600@rockyreader.com
SUMMARY:Gem Crafters
DESCRIPTION:$2/hour\nModerator – Sherm
URL:https://rockyreader.com/calendar/gem-crafters-444/
LOCATION:Craft Center\, 2453 Tremainsville Rd Unit B\, Toledo\, OH\, 43613\, United States
CATEGORIES:Gem Crafters
END:VEVENT
END:VCALENDAR